BEGIN:VCALENDAR
VERSION:2.0
PRODID:-//QUAD TT - ECPv6.3.2//NONSGML v1.0//EN
CALSCALE:GREGORIAN
METHOD:PUBLISH
X-WR-CALNAME:QUAD TT
X-ORIGINAL-URL:https://quadtt.com
X-WR-CALDESC:Events for QUAD TT
REFRESH-INTERVAL;VALUE=DURATION:PT1H
X-Robots-Tag:noindex
X-PUBLISHED-TTL:PT1H
BEGIN:VTIMEZONE
TZID:UTC
BEGIN:STANDARD
TZOFFSETFROM:+0000
TZOFFSETTO:+0000
TZNAME:UTC
DTSTART:20250101T000000
END:STANDARD
END:VTIMEZONE
BEGIN:VEVENT
DTSTART;TZID=UTC:20250919T080000
DTEND;TZID=UTC:20250921T170000
DTSTAMP:20260419T185213
CREATED:20250623T020520Z
LAST-MODIFIED:20250824T211324Z
UID:3693-1758268800-1758474000@quadtt.com
SUMMARY:Maracas / Las Cuevas BioBlitz
DESCRIPTION:The 14th T&T Bioblitz will be on Trinidad’s North Coast\, with a basecamp in Maracas Bay!\nThe area will include Maracas Bay\, Tyrico Bay\, Damien Bay\, Las Cuevas Bay\, as well as El Tucuche\, Maracas Waterfall and the upper portion of Maracas Valley.
URL:https://quadtt.com/event/maracas-bioblitz/
CATEGORIES:Educational Event,Outdoor Event,T&T Field Naturalists Club Event
ATTACH;FMTTYPE=image/jpeg:https://quadtt.com/wp-content/uploads/2025/06/Maracas-Bioblitz-2025.jpg
END:VEVENT
END:VCALENDAR