BEGIN:VCALENDAR
VERSION:2.0
PRODID:-//QUAD TT - ECPv6.3.2//NONSGML v1.0//EN
CALSCALE:GREGORIAN
METHOD:PUBLISH
X-WR-CALNAME:QUAD TT
X-ORIGINAL-URL:https://quadtt.com
X-WR-CALDESC:Events for QUAD TT
REFRESH-INTERVAL;VALUE=DURATION:PT1H
X-Robots-Tag:noindex
X-PUBLISHED-TTL:PT1H
BEGIN:VTIMEZONE
TZID:UTC
BEGIN:STANDARD
TZOFFSETFROM:+0000
TZOFFSETTO:+0000
TZNAME:UTC
DTSTART:20250101T000000
END:STANDARD
END:VTIMEZONE
BEGIN:VEVENT
DTSTART;TZID=UTC:20250911T173000
DTEND;TZID=UTC:20250911T190000
DTSTAMP:20260419T185219
CREATED:20250804T095814Z
LAST-MODIFIED:20250824T211332Z
UID:3745-1757611800-1757617200@quadtt.com
SUMMARY:T&T Field Naturalists Club Lecture on Natural History of the Golden Tree Frog in Trinidad
DESCRIPTION:The General Club Meetings are held at 5:30 p.m. on the second Thursday of the month\, at the Audio-Visual Room at St. Mary’s College\, Frederick Street\, Port-of-Spain\, except in December. Meetings\, except the Annual General Meeting and the members’ evening\, feature a lecture. Additional lectures may be scheduled on an ad hoc basis. The public is welcome to attend these meetings.
URL:https://quadtt.com/event/tt-field-naturalists-club-lecture-on-natural-history-of-the-golden-tree-frog-in-trinidad/
CATEGORIES:Educational Event,T&T Field Naturalists Club Event
ATTACH;FMTTYPE=image/jpeg:https://quadtt.com/wp-content/uploads/2022/09/Trinidad-and-Tobago-Field-Naturalists-Club-Event-scaled.jpg
END:VEVENT
END:VCALENDAR