BEGIN:VCALENDAR
VERSION:2.0
PRODID:-//QUAD TT - ECPv6.3.2//NONSGML v1.0//EN
CALSCALE:GREGORIAN
METHOD:PUBLISH
X-WR-CALNAME:QUAD TT
X-ORIGINAL-URL:https://quadtt.com
X-WR-CALDESC:Events for QUAD TT
REFRESH-INTERVAL;VALUE=DURATION:PT1H
X-Robots-Tag:noindex
X-PUBLISHED-TTL:PT1H
BEGIN:VTIMEZONE
TZID:UTC
BEGIN:STANDARD
TZOFFSETFROM:+0000
TZOFFSETTO:+0000
TZNAME:UTC
DTSTART:20250101T000000
END:STANDARD
END:VTIMEZONE
BEGIN:VEVENT
DTSTART;TZID=UTC:20251011T070000
DTEND;TZID=UTC:20251011T170000
DTSTAMP:20260419T155836
CREATED:20251008T040124Z
LAST-MODIFIED:20251008T040124Z
UID:4155-1760166000-1760202000@quadtt.com
SUMMARY:T&T Field Naturalists' Club Trip to Icacos Wetlands & Bowen Trace
DESCRIPTION:Field trips are undertaken by the Club for the edification and enjoyment of its members. The guidebook for these trips is the Trinidad and Tobago Field Naturalists’ Club Trail Guide Second Edition (2006). Only registered members may participate in field trips. All participants are expected to adhere to the Country Code set out in Chapter 2 of the Trail Guide and to be familiar with the safety recommendations listed therein. General Club Trips are held on the last Sunday of the month.
URL:https://quadtt.com/event/tt-field-naturalists-club-trip-to-icacos-wetlands-bowen-trace/
CATEGORIES:Faculty of Science & Technology Event,Outdoor Event,T&T Field Naturalists Club Event
ATTACH;FMTTYPE=image/jpeg:https://quadtt.com/wp-content/uploads/2022/09/Trinidad-and-Tobago-Field-Naturalists-Club-Outdoor-Event.jpg
END:VEVENT
END:VCALENDAR