BEGIN:VCALENDAR
VERSION:2.0
PRODID:-//QUAD TT - ECPv6.3.2//NONSGML v1.0//EN
CALSCALE:GREGORIAN
METHOD:PUBLISH
X-WR-CALNAME:QUAD TT
X-ORIGINAL-URL:https://quadtt.com
X-WR-CALDESC:Events for QUAD TT
REFRESH-INTERVAL;VALUE=DURATION:PT1H
X-Robots-Tag:noindex
X-PUBLISHED-TTL:PT1H
BEGIN:VTIMEZONE
TZID:UTC
BEGIN:STANDARD
TZOFFSETFROM:+0000
TZOFFSETTO:+0000
TZNAME:UTC
DTSTART:20250101T000000
END:STANDARD
END:VTIMEZONE
BEGIN:VEVENT
DTSTART;TZID=UTC:20260402T133000
DTEND;TZID=UTC:20260402T180000
DTSTAMP:20260422T170030
CREATED:20260325T100931Z
LAST-MODIFIED:20260325T100931Z
UID:4655-1775136600-1775152800@quadtt.com
SUMMARY:Faculty of Medical Sciences Fun Day
DESCRIPTION:The event of the SEMESTER here at FMS😝🏃💨 \nFMS FUN DAY IS HERE🤩🔥 \nNow when we tell you… you can’t miss this event because we have a stacked program ready for you\, with FOOD and DRINKS on sale😉 \nReady your teams because we want to see your best performance in your March Past!  \nWe will have some wonderful firefighters on the field with us organizing it all and ensuring everyone is safe and in a gear⚙️⚙️ \nSo which team will take home the victory this time?🏆
URL:https://quadtt.com/event/faculty-of-medical-sciences-fun-day/
CATEGORIES:Faculty of Medical Sciences Event,Outdoor Event,Sports Event
ATTACH;FMTTYPE=image/jpeg:https://quadtt.com/wp-content/uploads/2026/03/655994286_18310603408276734_1277756607013333145_n.jpg
END:VEVENT
BEGIN:VEVENT
DTSTART;TZID=UTC:20260328T130000
DTEND;TZID=UTC:20260328T180000
DTSTAMP:20260422T170030
CREATED:20260325T101201Z
LAST-MODIFIED:20260325T101201Z
UID:4658-1774702800-1774720800@quadtt.com
SUMMARY:Vet School Fun Day
DESCRIPTION:Vet School Fun Day is HERE 🔥🐾 \nGet ready for pure vibes\, energy\, and nonstop competition as all five year groups go head to head 💪🏽🏆\n📍 French Village Field\n🗓 March 28th\, 2026\n⏰ 1PM – 6PM  \nBring the spirit\, bring the noise\, and most importantly\, bring your A-game 😤🔥\nIt’s more than just sports\, it’s pride\, teamwork\, and bragging rights on the line!  \nWho’s taking the crown this year? 👀\nMay the BEST year win 🏆🔥
URL:https://quadtt.com/event/vet-school-fun-day/
CATEGORIES:Faculty of Medical Sciences Event,Outdoor Event,Sports Event
ATTACH;FMTTYPE=image/jpeg:https://quadtt.com/wp-content/uploads/2026/03/655998983_18339221200244497_4922570244267482536_n.jpg
END:VEVENT
BEGIN:VEVENT
DTSTART;TZID=UTC:20260327T163000
DTEND;TZID=UTC:20260327T190000
DTSTAMP:20260422T170030
CREATED:20260311T133801Z
LAST-MODIFIED:20260311T133801Z
UID:4591-1774629000-1774638000@quadtt.com
SUMMARY:Koo Vs Marcus Charity Football Match
DESCRIPTION:MARCUS V KOO IS BAAAAACK!!! 🗣🗣\nThe ultimate showdown is on and it’s time to represent. LLB/Pre-Law students – are you ready to play? 😈⚖️\n📲 Scan the QR code or click the link in bio and REGISTER NOW! ⚽️⚽️
URL:https://quadtt.com/event/koo-vs-marcus-charity-football-match/
CATEGORIES:Educational Event,Sports Event
ATTACH;FMTTYPE=image/jpeg:https://quadtt.com/wp-content/uploads/2026/03/621903982_18524607694066319_6202124412252591088_n.jpg
END:VEVENT
BEGIN:VEVENT
DTSTART;TZID=UTC:20260327T100000
DTEND;TZID=UTC:20260327T170000
DTSTAMP:20260422T170030
CREATED:20260307T072528Z
LAST-MODIFIED:20260307T072528Z
UID:4535-1774605600-1774630800@quadtt.com
SUMMARY:UTT Sports Day
DESCRIPTION:UTT Students’ Sports Day 2026 is just 3 weeks away…🏆 \nGet ready for the excitement\, the competition\, and the campus spirit.
URL:https://quadtt.com/event/utt-sports-day/
CATEGORIES:Outdoor Event,Sports Event,UTT Event
ATTACH;FMTTYPE=image/jpeg:https://quadtt.com/wp-content/uploads/2026/03/645221250_1341453121355707_5953992197366418681_n.jpg
END:VEVENT
BEGIN:VEVENT
DTSTART;TZID=UTC:20260319T120000
DTEND;TZID=UTC:20260319T170000
DTSTAMP:20260422T170030
CREATED:20260307T081121Z
LAST-MODIFIED:20260307T081121Z
UID:4554-1773921600-1773939600@quadtt.com
SUMMARY:Pelican Arena: UWI Sports Day
DESCRIPTION:Welcome to the battlefield… \nPELican Arena 🛡️🔥\nWhere warriors rise and legends are made. \n📅 March 19th\n⏰ 12–5 PM\n📍 UWI SPEC Rugby Field \nPull up\, rep your side\, and let the games begin. 🏟️💪
URL:https://quadtt.com/event/pelican-arena-uwi-sports-day/
CATEGORIES:Faculty of Medical Sciences Event,Faculty of Science & Technology Event,Outdoor Event,Sports Event
ATTACH;FMTTYPE=image/jpeg:https://quadtt.com/wp-content/uploads/2026/03/645730837_18573555214065065_2038611534290055797_n.jpg
END:VEVENT
BEGIN:VEVENT
DTSTART;TZID=UTC:20260315T080000
DTEND;TZID=UTC:20260315T170000
DTSTAMP:20260422T170030
CREATED:20260301T051543Z
LAST-MODIFIED:20260301T052202Z
UID:4511-1773561600-1773594000@quadtt.com
SUMMARY:Rotaract Piarco Family Fun Day
DESCRIPTION:Save the date\, guys! 🌞🎉 \nThe Rotaract Club of Piarco U.W.I is bringing the vibes\, the laughter\, and the family fun on March 15th! 💛💙 \nThis one is specially for our Piarco UWI family our amazing members\, prospective members\, and your family members too 🤗✨ It’s an inclusive event where everyone connected to the club is welcome to come out and enjoy the day together! \nFood 🍔\nGames 🎯\nFun for the whole family 👨🏽‍👩🏽‍👧🏽‍👦🏽 \nLet’s continue building this 5G family with strong connections 💪📶❤️ \nMark your calendars and stay tuned… details coming soon! 👀✨
URL:https://quadtt.com/event/rotaract-piarco-family-fun-day/
CATEGORIES:Outdoor Event,Sports Event
ATTACH;FMTTYPE=image/jpeg:https://quadtt.com/wp-content/uploads/2026/03/643022831_18568124929056579_4642985982876759900_n.jpg
END:VEVENT
BEGIN:VEVENT
DTSTART;TZID=UTC:20260313T110000
DTEND;TZID=UTC:20260313T130000
DTSTAMP:20260422T170030
CREATED:20260307T075146Z
LAST-MODIFIED:20260307T075146Z
UID:4545-1773399600-1773406800@quadtt.com
SUMMARY:Keep-Ups & Penalty Master Competition
DESCRIPTION:Shoot for your goals! ⚽️ \nIt’s all or nothing!
URL:https://quadtt.com/event/keep-ups-penalty-master-competition/
CATEGORIES:Language Event,Outdoor Event,Sports Event
ATTACH;FMTTYPE=image/jpeg:https://quadtt.com/wp-content/uploads/2026/03/647371403_1531040005690444_420256533364153665_n.jpg
END:VEVENT
BEGIN:VEVENT
DTSTART;TZID=UTC:20260212T150000
DTEND;TZID=UTC:20260212T170000
DTSTAMP:20260422T170030
CREATED:20260209T055435Z
LAST-MODIFIED:20260209T131325Z
UID:4400-1770908400-1770915600@quadtt.com
SUMMARY:MSSC Cricket League 2026 Finals
DESCRIPTION:IT’S THAT TIME AGAIN!!!🏏✨ The MSSC Cricket League is BACK\, bringing competition\, excitement and nonstop vibes. Expect intense games\, unforgettable moments and pure epinephrine from start to finish . If you love cricket\, this is where you need to be. \n🗓 Tournament Duration : Thursday 22nd January 2026 – Thursday 12th February 2026\n📍 Venue: EWMSC French Village Field \nSign up\, bring your A-game and MAKE HISTORY.
URL:https://quadtt.com/event/mssc-cricket-league-finals/
CATEGORIES:Faculty of Medical Sciences Event,Sports Event
ATTACH;FMTTYPE=image/jpeg:https://quadtt.com/wp-content/uploads/2026/02/613556481_18301067584276734_6005661167910429313_n-1.jpg
END:VEVENT
BEGIN:VEVENT
DTSTART;TZID=UTC:20251121T133000
DTEND;TZID=UTC:20251121T170000
DTSTAMP:20260422T170030
CREATED:20251119T141132Z
LAST-MODIFIED:20251119T141132Z
UID:4306-1763731800-1763744400@quadtt.com
SUMMARY:MSSC Football League Finals
DESCRIPTION:Following last week’s semi-final games\, the MSSC Football League comes to a close this Friday with the final game! \nStay tuned for more information\, and an updates flier.
URL:https://quadtt.com/event/mssc-football-league-finals/
CATEGORIES:Faculty of Medical Sciences Event,Sports Event
ATTACH;FMTTYPE=image/jpeg:https://quadtt.com/wp-content/uploads/2025/11/581400761_18294845272276734_504589270655798687_n.jpg
END:VEVENT
BEGIN:VEVENT
DTSTART;TZID=UTC:20251026T040000
DTEND;TZID=UTC:20251026T093000
DTSTAMP:20260422T170030
CREATED:20250821T182949Z
LAST-MODIFIED:20250821T182949Z
UID:3834-1761451200-1761471000@quadtt.com
SUMMARY:UWI SPEC International Half-Marathon & 5K
DESCRIPTION:The UWI SPEC International Half-Marathon & 5K is back for its 19th edition on Sunday\, October 26\, 2025 and this year\, we’re stepping out in purple with a hint of red in support of the Alzheimer’s Association of Trinidad and Tobago (AzATT).\nA portion of this year’s proceeds will support AzATT’s vital work in raising awareness\, educating the public and assisting those affected by Alzheimer’s and their caregivers. Whether you’re chasing a personal best or walking for someone you love\, every step makes a difference.\nPlus\, cash prizes to be won!\nRegistration is OPEN!\nDeadline: October 9 OR once 2\,100 participants register\, whichever comes first.\nRead here for more info – https://sta.uwi.edu/news/notices/notice.asp?id=27620
URL:https://quadtt.com/event/uwi-spec-international-half-marathon-5k/
CATEGORIES:Outdoor Event,Sports Event
ATTACH;FMTTYPE=image/jpeg:https://quadtt.com/wp-content/uploads/2025/08/529945902_18281249665276734_5894945499717443821_n.jpg
END:VEVENT
BEGIN:VEVENT
DTSTART;TZID=UTC:20251016T130000
DTEND;TZID=UTC:20251016T170000
DTSTAMP:20260422T170030
CREATED:20251012T031812Z
LAST-MODIFIED:20251012T031812Z
UID:4221-1760619600-1760634000@quadtt.com
SUMMARY:SAC All Fours Tournament
DESCRIPTION:
URL:https://quadtt.com/event/sac-all-fours-tournament/
CATEGORIES:Sports Event
ATTACH;FMTTYPE=image/jpeg:https://quadtt.com/wp-content/uploads/2025/10/565386277_18064606199615860_5403957224284342019_n.jpg
END:VEVENT
BEGIN:VEVENT
DTSTART;TZID=UTC:20251001T130000
DTEND;TZID=UTC:20251001T160000
DTSTAMP:20260422T170030
CREATED:20250908T233122Z
LAST-MODIFIED:20250908T233122Z
UID:3964-1759323600-1759334400@quadtt.com
SUMMARY:UTT Freshman Games Part 1
DESCRIPTION:For students of UTT San Fernando\, Point Lisas and Camden Campuses
URL:https://quadtt.com/event/utt-freshman-games-part-1/
CATEGORIES:Sports Event
ATTACH;FMTTYPE=image/jpeg:https://quadtt.com/wp-content/uploads/2025/09/AQPX3_BuLSqiRmhXA0PCHwxC-mboKrXqak-z84u9ireVb-p9xIyTI8GYcTcq2yfwRLET_5pG2tXlSPIKTRe7-fU4bl4FcafESM1EErY_000.jpg
END:VEVENT
END:VCALENDAR