BEGIN:VCALENDAR
VERSION:2.0
PRODID:-//QUAD TT - ECPv6.3.2//NONSGML v1.0//EN
CALSCALE:GREGORIAN
METHOD:PUBLISH
X-WR-CALNAME:QUAD TT
X-ORIGINAL-URL:https://quadtt.com
X-WR-CALDESC:Events for QUAD TT
REFRESH-INTERVAL;VALUE=DURATION:PT1H
X-Robots-Tag:noindex
X-PUBLISHED-TTL:PT1H
BEGIN:VTIMEZONE
TZID:UTC
BEGIN:STANDARD
TZOFFSETFROM:+0000
TZOFFSETTO:+0000
TZNAME:UTC
DTSTART:20250101T000000
END:STANDARD
END:VTIMEZONE
BEGIN:VEVENT
DTSTART;TZID=UTC:20251024T180000
DTEND;TZID=UTC:20251024T213000
DTSTAMP:20260422T195722
CREATED:20251011T022217Z
LAST-MODIFIED:20251011T022217Z
UID:4181-1761328800-1761341400@quadtt.com
SUMMARY:VSATT Halloween Carpark Lime
DESCRIPTION:🩸 Enter if you dare…\nThe SVM Car Park turns HAUNTED this Halloween! 👻\n💀 Oct 24th\, 2025 | $15 Entry | Haunted House| 6-11pm\n🍴 Food & drinks on sale | Costumes mandatory 😈
URL:https://quadtt.com/event/vsatt-halloween-carpark-lime-2/
CATEGORIES:Faculty of Medical Sciences Event,Outdoor Event
ATTACH;FMTTYPE=image/jpeg:https://quadtt.com/wp-content/uploads/2025/10/562360977_1931500234082007_1568228510422800706_n.jpg
END:VEVENT
BEGIN:VEVENT
DTSTART;TZID=UTC:20251018T080000
DTEND;TZID=UTC:20251018T170000
DTSTAMP:20260422T195722
CREATED:20251007T175242Z
LAST-MODIFIED:20251008T042738Z
UID:4135-1760774400-1760806800@quadtt.com
SUMMARY:Aripo Waterfall Hike
DESCRIPTION:The UWI STA Tourism Society is inviting you to go on a fun-filled and scenic hike to Aripo Waterfall 🏞️💧 \n📅 Date: October 18th\, 2025\n📍 Meet up: JFK Shuttle Stop | ⏰ 8AM\n💲 Price: $100 \nWe’ve got tour guides and lifeguards on standby\, and transportation to and from locations will be provided as well as refreshments 🚌🥤—\nso all you need to do is bring your energy and good vibes! 😎 \n🔗 Registration form in our bio!\n📩 Message us for more info.
URL:https://quadtt.com/event/aripo-waterfall-hike/
CATEGORIES:Outdoor Event
ATTACH;FMTTYPE=image/jpeg:https://quadtt.com/wp-content/uploads/2025/10/560376708_18340047373207208_3536121810568803675_n.jpg
END:VEVENT
BEGIN:VEVENT
DTSTART;TZID=UTC:20251012T070000
DTEND;TZID=UTC:20251012T170000
DTSTAMP:20260422T195722
CREATED:20251008T041550Z
LAST-MODIFIED:20251011T011242Z
UID:4157-1760252400-1760288400@quadtt.com
SUMMARY:Hike to Rio Seco Waterfall
DESCRIPTION:On Sunday 12th October 2025\,\nwe journey to an aquamarine beauty…the “Fountain of Youth” …the Pool of pools….”The Leap of leaps”…located in Northeast Trinidad in the Ancient Matura Forest is coming to YOU…as seen through US.  \nThe trail to the Rio Seco waterfall begins on the Toco Main Road where the beautiful Salybia River flows lazily into the ocean. The trail winds through the primary rainforest of Matura that most times over looks the bubbling river. Through the tropical rainforest\, dominating trees such as the Mora are seen at different stages of life. 🌳  \nThe trail conditions now would take approximately 1 hour one way (depending on ones fitness)\, with a rating of 4/10. Expect mud. \nThis isn’t one to miss!! \n⚖Hike Rating:4/10 (moderate) Forested muddy trail with minor obstacles along the way; trees to climb over or under) \nCost: $140 per person  \nIncludes:\n✔ Round trip Transportation\n✔Certified Tour Guides\n✔Safety equipment (LifeJacket\, ropes etc)\n✔ Security\n✔First Aid Kits \n📍Maxi Pickup:\n⏰7 am at JFK Shuttle Stop UWI St Augustine\n8am Food Basket Arima  \nEstimated time of return: 5 pm \nTo ensure safety and group size please ensure you contact us for you booking.  \nWhen booking please state:\n 1)Full name (s)\n2)Age (s)\n3)Pickup Point\n4)Swimmer or Non Swimmer\n5) Any medical conditions\n6)Photo of completed payment transaction. \nAll attendees must register! \nBookings can be made by: \n1. Contact us to ensure spaces are available\n2. Make FULL PAYMENT online to our Scotiabank Trinidad- Bank Account and send us the completed transaction along with attendee information.  \nFINAL Registration day is on Friday 10th October 2025 \nFor more whatsapp message 268-6608\, 306-0257 or 333-5913  \n ❗NB: NO REFUNDS ON YOUR CANCELATIONS AFTER FINAL REGISTRATION DAY (10.10.2025)❗
URL:https://quadtt.com/event/hike-to-rio-seco-waterfall-2/
CATEGORIES:Outdoor Event
ATTACH;FMTTYPE=image/jpeg:https://quadtt.com/wp-content/uploads/2025/10/557685966_18429707365100688_4604883543056893897_n.jpg
END:VEVENT
BEGIN:VEVENT
DTSTART;TZID=UTC:20251011T070000
DTEND;TZID=UTC:20251011T170000
DTSTAMP:20260422T195722
CREATED:20251008T040124Z
LAST-MODIFIED:20251008T040124Z
UID:4155-1760166000-1760202000@quadtt.com
SUMMARY:T&T Field Naturalists' Club Trip to Icacos Wetlands & Bowen Trace
DESCRIPTION:Field trips are undertaken by the Club for the edification and enjoyment of its members. The guidebook for these trips is the Trinidad and Tobago Field Naturalists’ Club Trail Guide Second Edition (2006). Only registered members may participate in field trips. All participants are expected to adhere to the Country Code set out in Chapter 2 of the Trail Guide and to be familiar with the safety recommendations listed therein. General Club Trips are held on the last Sunday of the month.
URL:https://quadtt.com/event/tt-field-naturalists-club-trip-to-icacos-wetlands-bowen-trace/
CATEGORIES:Faculty of Science & Technology Event,Outdoor Event,T&T Field Naturalists Club Event
ATTACH;FMTTYPE=image/jpeg:https://quadtt.com/wp-content/uploads/2022/09/Trinidad-and-Tobago-Field-Naturalists-Club-Outdoor-Event.jpg
END:VEVENT
BEGIN:VEVENT
DTSTART;TZID=UTC:20251008T130000
DTEND;TZID=UTC:20251008T160000
DTSTAMP:20260422T195722
CREATED:20250908T233640Z
LAST-MODIFIED:20250908T233640Z
UID:3967-1759928400-1759939200@quadtt.com
SUMMARY:UTT Freshman Games Part 2
DESCRIPTION:For students of all campuses except San Fernando\, Point Lisas\, and Camden.
URL:https://quadtt.com/event/utt-freshman-games-part-2/
CATEGORIES:Outdoor Event,UTT Event
ATTACH;FMTTYPE=image/jpeg:https://quadtt.com/wp-content/uploads/2025/09/AQPX3_BuLSqiRmhXA0PCHwxC-mboKrXqak-z84u9ireVb-p9xIyTI8GYcTcq2yfwRLET_5pG2tXlSPIKTRe7-fU4bl4FcafESM1EErY_000.jpg
END:VEVENT
BEGIN:VEVENT
DTSTART;TZID=UTC:20250928T080000
DTEND;TZID=UTC:20250928T170000
DTSTAMP:20260422T195722
CREATED:20250804T095534Z
LAST-MODIFIED:20250824T211315Z
UID:3743-1759046400-1759078800@quadtt.com
SUMMARY:T&T Field Naturalists Club Trip to Buenos Ayres Forest Trail
DESCRIPTION:Field trips are undertaken by the Club for the edification and enjoyment of its members. The guidebook for these trips is the Trinidad and Tobago Field Naturalists’ Club Trail Guide Second Edition (2006). Only registered members may participate in field trips. All participants are expected to adhere to the Country Code set out in Chapter 2 of the Trail Guide and to be familiar with the safety recommendations listed therein. General Club Trips are held on the last Sunday of the month.
URL:https://quadtt.com/event/tt-field-naturalists-club-trip-to-buenos-ayres-forest-trail/
CATEGORIES:Outdoor Event,T&T Field Naturalists Club Event
ATTACH;FMTTYPE=image/jpeg:https://quadtt.com/wp-content/uploads/2022/09/Trinidad-and-Tobago-Field-Naturalists-Club-Outdoor-Event.jpg
END:VEVENT
BEGIN:VEVENT
DTSTART;TZID=UTC:20250928T073000
DTEND;TZID=UTC:20250928T170000
DTSTAMP:20260422T195722
CREATED:20250828T030830Z
LAST-MODIFIED:20250828T030830Z
UID:3903-1759044600-1759078800@quadtt.com
SUMMARY:Hike to Cyril Bay
DESCRIPTION:Hikers\, on Sunday 28th September 2025 get ready for a voyage downhill that leads to a bay both “salty and fresh”. Cyril Bay located along the North coast is a usual calm beach with a small spring running off a cliff that dwindles along the coastline.\nThe blue/turquoise waters are rich in biodiversity and if one is to walk along the massive rock from the end of the coast the aesthetics will be rewarding.  \nSuch journey begins in a tropical rain forest just of the Maracas road.  \nThe journey starts downhill but on the way back its uphill\, rating this hike 4/10 or 5/10 depending on one’s fitness  \n💰Cost: $140TT \n📍Meeting Point:\n730am JFK Shuttle Stop UWI\nEstimated time of return 5pm \nRegistration is open and your space is secured by payment only.\nTo book:\n1. WhatsApp message us to ensure spaces are available.\n2. Make payment online to our Scotiabank account and send a photo of the completed transaction along with names and contact number for each person.  \n*NB NO REFUNDS ON YOUR CANCELATIONS AFTER FINAL REGISTRATION DATE 26.9.25*
URL:https://quadtt.com/event/hike-to-cyril-bay-2/
CATEGORIES:Outdoor Event
ATTACH;FMTTYPE=image/jpeg:https://quadtt.com/wp-content/uploads/2025/08/539228262_18423613723100688_953538227992297967_n.jpg
END:VEVENT
BEGIN:VEVENT
DTSTART;TZID=UTC:20250919T080000
DTEND;TZID=UTC:20250921T170000
DTSTAMP:20260422T195722
CREATED:20250623T020520Z
LAST-MODIFIED:20250824T211324Z
UID:3693-1758268800-1758474000@quadtt.com
SUMMARY:Maracas / Las Cuevas BioBlitz
DESCRIPTION:The 14th T&T Bioblitz will be on Trinidad’s North Coast\, with a basecamp in Maracas Bay!\nThe area will include Maracas Bay\, Tyrico Bay\, Damien Bay\, Las Cuevas Bay\, as well as El Tucuche\, Maracas Waterfall and the upper portion of Maracas Valley.
URL:https://quadtt.com/event/maracas-bioblitz/
CATEGORIES:Educational Event,Outdoor Event,T&T Field Naturalists Club Event
ATTACH;FMTTYPE=image/jpeg:https://quadtt.com/wp-content/uploads/2025/06/Maracas-Bioblitz-2025.jpg
END:VEVENT
BEGIN:VEVENT
DTSTART;TZID=UTC:20250914T070000
DTEND;TZID=UTC:20250914T170000
DTSTAMP:20260422T195722
CREATED:20250909T034245Z
LAST-MODIFIED:20250909T034245Z
UID:3971-1757833200-1757869200@quadtt.com
SUMMARY:Coastal Clean Up
DESCRIPTION:Join us on Sunday 14th\, September for a coastal cleanup! Let’s unite to protect our shores\, preserve marine life and create a cleaner future💚💚 \n🚌 Transport provided – only $80\n📍 Meet at UWI for 7AM sharp\n📲 Scan the QR code to sign up today!\n📆 Deadline to Register – 12th September
URL:https://quadtt.com/event/coastal-clean-up/
CATEGORIES:Outdoor Event
ATTACH;FMTTYPE=image/jpeg:https://quadtt.com/wp-content/uploads/2025/09/541839885_18053399102440694_9211981704752010992_n-1.jpg
END:VEVENT
BEGIN:VEVENT
DTSTART;TZID=UTC:20250914T070000
DTEND;TZID=UTC:20250914T160000
DTSTAMP:20260422T195722
CREATED:20250827T222215Z
LAST-MODIFIED:20250827T222215Z
UID:3898-1757833200-1757865600@quadtt.com
SUMMARY:Hike to Three Pools Waterfall
DESCRIPTION:Join us on Sunday 14th September 2025 as we journey to 3 Pools. This exciting cascade is located in Blanchisseuse and is an ideal for both adults and kids! \nThe trail to the Three Pools  begins at the Spring Bridge Road where the beautiful Marianne River flows lazily to the Caribbean Sea. The trail is very easy\, with one short incline at the start which takes us to the foot path overlooking the golden River. \nThrough the tropical rainforest\, we would be passing through an old cocoa plantation filled with breadfruit and pomerac trees.\nWe then swim through the 1st pool and 2nd in order to relax or take the plunge at the 3rd. Lifejackets are available for all participants. Non swimmers too are encouraged to join us!  \nThe trail would take approximately 15 – 20 minutes hike\, with a rating of 3/10 (easy). You and all your belongings will get wet.  \nCost: $140 Hike and maxi transportation \n• Reliable Transportation (Round Trip)\,\n• Professional Experienced Friendly Guides\,\n• Safety equipment (LifeJacket\, ropes\, firstaid kits)\n• Safe and secure event\,\n***Short Stop at Maracas for food purchase after the hike once time permits*** \nAssembly: 7am JFK Shuttle Stop UWI St Augustine Campus\nDeparture time: 7:30am.\nEstimated time of return: 5pm \nRegistration is open and your space is secured by payment only.  \nHow to book:\n1. WhatsApp message us to ensure spaces are available\n2. Make payment online to our Scotiabank account and send a photo of the completed transaction along with the names and contact number for each person.  \n**NO REFUNDS AFTER FINAL REGISTRATION DAY (12.9.2025)** \nFor more information contact Raiza (268-6608)\,\n Garvin (333-5913) or Terence 306-0257
URL:https://quadtt.com/event/hike-to-three-pools-waterfall/
CATEGORIES:Outdoor Event
ATTACH;FMTTYPE=image/jpeg:https://quadtt.com/wp-content/uploads/2025/08/539433849_18423607507100688_1868606512815464437_n.jpg
END:VEVENT
BEGIN:VEVENT
DTSTART;TZID=UTC:20250913T140000
DTEND;TZID=UTC:20250913T170000
DTSTAMP:20260422T195722
CREATED:20250903T021028Z
LAST-MODIFIED:20250903T021028Z
UID:3949-1757772000-1757782800@quadtt.com
SUMMARY:AAPG UWI DDI Refresher
DESCRIPTION:All aboard for the AAPG UWI Student Chapter’s DDI Refresher! 🌊🚤\nWe’re kicking off the semester the right way! \n📅 Date: September 13th\, 2025\n⏰ Sailing Time: 2 PM sharp\n💵 Fee: $160 (Payment due by September 5th.) \nSpaces are limited\, so don’t miss your chance! Check the flyer for all the details and secure your spot by registering via the link below⚓✨ \nPayments can be made to any AAPG executive before September 5th! DM for any inquiries. \nTransport not included!
URL:https://quadtt.com/event/aapg-uwi-ddi-refresher/
CATEGORIES:Outdoor Event
ATTACH;FMTTYPE=image/jpeg:https://quadtt.com/wp-content/uploads/2025/09/530262847_18476687758077943_771809996625907879_n.jpg
END:VEVENT
BEGIN:VEVENT
DTSTART;TZID=UTC:20250905T080000
DTEND;TZID=UTC:20250905T170000
DTSTAMP:20260422T195722
CREATED:20250821T171120Z
LAST-MODIFIED:20250821T171120Z
UID:3827-1757059200-1757091600@quadtt.com
SUMMARY:FMS Fest Entrepreneurial Expo
DESCRIPTION:Showcase your business at the FMS Fest Entrepreneurial Expo on Friday 5th September! \n📍UWI Mt Hope Campus\n📋 Who can apply? UWI Student-owned businesses are welcome!\n📌Date: Friday 5th September \nRegistration Fee: $100 for full use of the space\nDeadline for Registration: Sunday 24th August\, 2025 \nClick the link in our bio to register and for more info! ✨
URL:https://quadtt.com/event/fms-fest-entrepreneurial-expo/
CATEGORIES:Outdoor Event
ATTACH;FMTTYPE=image/jpeg:https://quadtt.com/wp-content/uploads/2025/08/530629218_18281610472276734_1751630703536283967_n.jpg
END:VEVENT
BEGIN:VEVENT
DTSTART;TZID=UTC:20250904T080000
DTEND;TZID=UTC:20250905T170000
DTSTAMP:20260422T195722
CREATED:20250826T181717Z
LAST-MODIFIED:20250826T181717Z
UID:3886-1756972800-1757091600@quadtt.com
SUMMARY:FMS Fest
DESCRIPTION:FMS FEST IS FINALLY HERE🥳\nMSSC x UWI GUILD‼️ \n✨The first event of the year that YOU don’t wanna miss!✨ \nWith two days of festivities on the 4th and 5th of September\, there are booths set up that everyone can enjoy🧑🏽‍⚕️ \nDay 1 we have all our FMS Clubs and Associations on display for you to learn about and play games to win fun prizes🎯\nDay 2 you’ll get the chance to support student own businesses and even acquire some trendy medical gear for your new journey in FMS🩺 \nCome on down to play games and check out the food and activities\, cause we have lots of surprises in store😉
URL:https://quadtt.com/event/fms-fest/
CATEGORIES:Outdoor Event
ATTACH;FMTTYPE=image/jpeg:https://quadtt.com/wp-content/uploads/2025/08/539440031_18283203379276734_7296085041381128762_n.jpg
END:VEVENT
BEGIN:VEVENT
DTSTART;TZID=UTC:20250902T100000
DTEND;TZID=UTC:20250902T170000
DTSTAMP:20260422T195722
CREATED:20250826T183253Z
LAST-MODIFIED:20250826T183253Z
UID:3892-1756807200-1756832400@quadtt.com
SUMMARY:Guild Fest 2025: House of the Pelican
DESCRIPTION:Step into the House of the Pelican 🪽  \nWhere culture meets celebration!  \nGet ready for Guild Fest 2025: vibrant vibes\, endless energy\, and a campus experience like no other!
URL:https://quadtt.com/event/guild-fest-2025-house-of-the-pelican/
CATEGORIES:Outdoor Event
ATTACH;FMTTYPE=image/jpeg:https://quadtt.com/wp-content/uploads/2025/08/536791947_18530107513065065_2480451313725860537_n.jpg
END:VEVENT
BEGIN:VEVENT
DTSTART;TZID=UTC:20250822T080000
DTEND;TZID=UTC:20250824T170000
DTSTAMP:20260422T195722
CREATED:20250804T094440Z
LAST-MODIFIED:20250804T094440Z
UID:3741-1755849600-1756054800@quadtt.com
SUMMARY:T&T Field Naturalists Club Trip to Gran Tacaribe
DESCRIPTION:Field trips are undertaken by the Club for the edification and enjoyment of its members. The guidebook for these trips is the Trinidad and Tobago Field Naturalists’ Club Trail Guide Second Edition (2006). Only registered members may participate in field trips. All participants are expected to adhere to the Country Code set out in Chapter 2 of the Trail Guide and to be familiar with the safety recommendations listed therein. General Club Trips are held on the last Sunday of the month.
URL:https://quadtt.com/event/tt-field-naturalists-club-trip-to-gran-tacaribe/
CATEGORIES:Educational Event,Outdoor Event,T&T Field Naturalists Club Event
ATTACH;FMTTYPE=image/jpeg:https://quadtt.com/wp-content/uploads/2022/09/Trinidad-and-Tobago-Field-Naturalists-Club-Outdoor-Event.jpg
END:VEVENT
BEGIN:VEVENT
DTSTART;TZID=UTC:20250720T073000
DTEND;TZID=UTC:20250720T170000
DTSTAMP:20260422T195722
CREATED:20250623T013842Z
LAST-MODIFIED:20250623T013842Z
UID:3690-1752996600-1753030800@quadtt.com
SUMMARY:Rincon Waterfall Adventure
DESCRIPTION:Hikers\,\nOn Sunday 20th July\, 2025 come with us as we venture to a more dynamic\, fitness appetizing and nature loving trail as we visit the towering Rincon Falls . \nThe journey 👣 treks through the “back door” of rain forests of the Northern Range winding around a steep slope until we reach Blackpool…. a cool shallow pool with waters dark and foreboding. \nAfter we trudge downhill along a wide path through the primary forest of the mountain with a right turn downhill for a steep rope asssited descent to the waterfall and pool area. Here\, the adventurous can swim across and sit behind a water-threaded curtain…silvery and sparkling..scattering the colours of the rainbow… \nThis hike is approximately two (2) hours long one way at a slow pace and is rated 5 out of 10 (moderste to Difficult). It is fairly steep and poses a reasonable level of difficulty that will have you sweating and breathing heavily. 💨 \nCost:\n$140 Hike & Transportation \nAssembly: 7 am JFK Shuttle Stop UWI St Augustine\nDeparture time: 7: 30 am.\nEstimated time of return: 5 pm \n📋Registration is open!!\nYour spot is booked by payment only! \nHow to book your space:\n1. Contact us to ensure spaces are available.\n2. Make an online Payment to our Scotiabank account and send a photo of the completed transaction along with names and contact number for each person. \n🚨Deadline for registration is Friday 18th July 2025 \n❌Absolutely no refunds after final registration date 18th July 2025❌ \nFor registration and payment info Whatsapp message 268-6608\, 333-5913 or 306-0257
URL:https://quadtt.com/event/rincon-waterfall-adventure/
CATEGORIES:Outdoor Event
ATTACH;FMTTYPE=image/jpeg:https://quadtt.com/wp-content/uploads/2025/06/510495631_1368945357522122_210842242531054715_n.jpg
END:VEVENT
BEGIN:VEVENT
DTSTART;TZID=UTC:20250706T073000
DTEND;TZID=UTC:20250706T160000
DTSTAMP:20260422T195722
CREATED:20250622T234956Z
LAST-MODIFIED:20250622T234956Z
UID:3687-1751787000-1751817600@quadtt.com
SUMMARY:Turure Watersteps Adventure
DESCRIPTION:HikerSpirit crew\,\nJoin us on Sunday 6th July\, 2025 as we venture to Turure Cascades or Watersteps\nWithin the Cumaca forest lies three beautiful limestone waterfalls. Chilly water cascade down the limestone faces creating a spectacular view and crystal pools form below to soak in. \nThe hike to the waterfalls takes approximately 45 minutes to 1 hour \, going through pristine tropical rain forest.\nAs you move along the forest trail\, the calls of the bell bird can be heard echoing among the trees. \nThere are several river crossings and part hiking in the water along this relatively easy hike and the main uphill portion is not difficult. \nHike Rating: 3 /10 (easy) \nCost:$140 Hike & transportation \n• Transportation 🚌\n• Professional Experienced Friendly Guides\, 🙋\n• Safety equipment (LifeJacket\, rope & other gears)\n• Safe and secure event\, 👮 \nAssembly: 7: 00 am at JFK Shuttle Stop UWI St Augustine\nDeparture time: 7:30am\nEstimated time of return: 3pm \n📋Registration is open!!\nYour spot is booked by payment only! \nHow to book your space:\n1. Contact us to ensure spaces are available.\n2. Make an online Payment to our Scotiabank account and send a photo of the completed transaction along with names and contact number for each person. \n🚨Deadline for registration is Friday 4th July 2025 \n❌Absolutely no refunds on your cancelations after final registration date 4th July 2025❌ \nFor registration and payment info Whatsapp message Raiza 2686608\, Garvin 333-5913 or Terence 306-0257
URL:https://quadtt.com/event/turure-watersteps-adventure/
CATEGORIES:Outdoor Event
ATTACH;FMTTYPE=image/jpeg:https://quadtt.com/wp-content/uploads/2025/06/503511266_1049454060727148_9163731254814549496_n-1.jpg
END:VEVENT
BEGIN:VEVENT
DTSTART;TZID=UTC:20250629T070000
DTEND;TZID=UTC:20250629T110000
DTSTAMP:20260422T195722
CREATED:20250622T231249Z
LAST-MODIFIED:20250623T100424Z
UID:3684-1751180400-1751194800@quadtt.com
SUMMARY:Scoliosis Walkathon 2025
DESCRIPTION:Join us for this year’s Scoliosis Awareness Walk as we continue to raise awareness and support those affected by scoliosis! \n✨ Theme: 𝐖𝐄 𝐎𝐕𝐄𝐑𝐂𝐎𝐌𝐄 𝐒𝐂𝐎𝐋𝐈𝐎𝐒𝐈𝐒 𝐓𝐎𝐆𝐄𝐓𝐇𝐄𝐑\n📅 Date: Sunday\, June 29\, 2025\n⏰ Time: 7:00 AM\n📍 Location: Queen’s Park Savannah\, Opposite TGI Friday’s \n💚 This third annual walk is all about resilience\, community\, and empowerment. Let’s come together and show support for those living with scoliosis! \nHow can you support?\n✅ Register & Join the walk – $50.00 (Children 16 & under FREE)\n✅ Purchase an awareness T-shirt – $100 TTD (Adults) | $80 TTD (Kids) (Optional)\n✅ Spread the word! – SHARE this post on all platforms\n✅ Wear green to show support if you don’t wish to purchase a T-shirt \n📢 REGISTRATION IS OPEN! 👇\n🎟️ Sign up now: https://forms.gle/txjGo835ScdGD3rZ6\n📩 Need the registration link sent to you? Message us on WhatsApp at 868-738-8760. \nGet Your Awareness T-Shirts Today! 👕💚\n🔹 Adult T-shirts: $100 TTD\n🔹 Kids’ T-shirts: $80 TTD\n🔹 Pre-orders ONLY – Deadline: May 31\, 2025\n🔹 Pick-up Date: Saturday\, June 21\, 2025\n🔹 Pick-up Location: Queen’s Park Savannah (or by arrangement) \nHow to Register & Make Payment:\n🚫 No cash payments available\n🏦 Bank Transfer Only – Banking details are included in the registration form.\n📩 After payment: WhatsApp your name\, contact info\, size(s)\, and receipt to 868-738-8760 or email info.wos.foundation@gmail.com. \n📢 T-shirts are Miguel Moses round-neck dri-fit & unisex sizes. \nYour support makes a difference! Let’s walk\, spread awareness\, and show the world that We Overcome Scoliosis Together! 💚
URL:https://quadtt.com/event/scoliosis-walk/
CATEGORIES:Awareness Event,Outdoor Event
ATTACH;FMTTYPE=image/jpeg:https://quadtt.com/wp-content/uploads/2025/06/scoliosis-awareness-walk.jpg
END:VEVENT
BEGIN:VEVENT
DTSTART;TZID=UTC:20250608T073000
DTEND;TZID=UTC:20250608T160000
DTSTAMP:20260422T195722
CREATED:20250526T070609Z
LAST-MODIFIED:20250526T070609Z
UID:3673-1749367800-1749398400@quadtt.com
SUMMARY:Aripo Waterfall Adventure
DESCRIPTION:Rating: 1/10 😌\nIn Aripo lies a Turquoise hued six (6) foot waterfall rich in biodiversity. We hike on a downhill forest trail for about 10- 20 minutes until we arrive at the river.. \nCost: $100TT (hike only ; 🚗 + $25 parking fee per vehicle) \n$140 (hike & transportation)🚍 \nMeeting point: JFK Shuttle Stop UWI St Augustine Campus 🤝\n7:30am 🕰️\nDeparture: 8am\nEstimated return: 2p.m \nTo book your space :\n1. Whatsapp message us to ensure space is available\n2. Make full payment via online banking to our Scotiabank account.\n3. Send a photo of the completed transaction along with the names and contact number for each person. \nAll bookings are secured by payment only..💸 \n*NB No refunds on your cancelations the day before and the day on the event * \nIncludes:\n✔Transportation (Return Trip)\,\n✔Professional Certified Friendly Tour Guides\,\n✔Safety equipment (LifeJacket\, rope etc)\n✔First Aid Kits \nFor registration and more info Whatsapp Raiza 268-6608\, Garvin 333-5913 or Terence 306-0257
URL:https://quadtt.com/event/aripo-waterfall-adventure/
CATEGORIES:Outdoor Event
ATTACH;FMTTYPE=image/jpeg:https://quadtt.com/wp-content/uploads/2025/05/500562963_18410064817100688_871323514612839643_n.jpg
END:VEVENT
BEGIN:VEVENT
DTSTART;TZID=UTC:20250530T073000
DTEND;TZID=UTC:20250530T170000
DTSTAMP:20260422T195722
CREATED:20250526T071615Z
LAST-MODIFIED:20250526T071615Z
UID:3676-1748590200-1748624400@quadtt.com
SUMMARY:Maracas Waterfall Adventure
DESCRIPTION:Hikers\, on the upcoming Arrival Day holiday Friday 30th May\, 2025 we visit the towering Maracas Waterfall.\nMaracas Waterfall with an altitude of 91.5 metres is Trinidad’s highest waterfall.\nThe falls is located in the Maracas St.Joseph Valley and the source comes from the southern foothills of Mt. El Tucuche. Its close proximity to Port-of-Spain makes the waterfall a favorite tourist destination. \nThe journey on foot will take about 45 minutes -1 hour depending on one’sfitness. We walk uphill and we know we are close once we start to feel waterdroplets on our faces. \nAt this time of the year the water flow should be at an all high and creating a memorable sight for its visitors. \nCost:\n$140 Hike & transportation \nIncludes:\n• Transportation\n• Certified Guides\,\n• Safety equipment (LifeJacket\, ropes\, cutlass)\n• Security \nAssembly: 7:30am at JFK Shuttle Stop\, U.W.I Main Campus.\nEstimated time of return: 3pm \nGuidelines:\n1. Have a proper shoes with good sole grips. (No slippers)\n2. Pack an extra change of clothing (to remain in maxi taxi).\n3. No jeans\, thick cotton tops or clothing that will absorb and retain large amounts of water.\n4. Secure all electrical items in waterproof cases or ziplock bags.\n5. No littering\, alcohol or smoking allowed.\n6. Walk with any medication you may require (asthma\, allergies\, pain etc) \nRegistration is open and can be done via the following method: \n1. Whatsapp message us to ensure space is available\n2. Make full payment online to our Scotiabank account.\n3. Send a photo of the completed transaction along with the names and contact number for each person. \n**NO REFUNDS ON YOUR CANCELATIONS on the day before or day of event )** \nFor more information whatsapp message Raiza 2686608\, Garvin (3335913) or (Terence 306-0257)
URL:https://quadtt.com/event/maracas-waterfall-adventure/
CATEGORIES:Outdoor Event
ATTACH;FMTTYPE=image/jpeg:https://quadtt.com/wp-content/uploads/2025/05/500250834_18410056096100688_5506812123098868057_n.jpg
END:VEVENT
BEGIN:VEVENT
DTSTART;TZID=UTC:20250426T150000
DTEND;TZID=UTC:20250426T180000
DTSTAMP:20260422T195722
CREATED:20250401T195131Z
LAST-MODIFIED:20250401T195250Z
UID:3566-1745679600-1745690400@quadtt.com
SUMMARY:Caroni Bird Sanctuary Sunset Tour
DESCRIPTION:Come Saturday 26th April 2025 and experience another natural wonder Trinidad has to offer.  \nThe 12\,000-acre Caroni Swamp and Bird Sanctuary is the natural nesting home of the Scarlet Ibis bird\, one of the national birds of Trinidad and Tobago.  \nOn this boat tour\, one is able to observe the natural habitat and roosting ritual of these birds as they return from their daily travels to the Venezuelan mainland\, a distance of about 11 miles. \n This tour is perfect for birdwatchers and nature  lovers alike as many (if not all) of the 100 plus species of other birds\, caimans\, swamp boas and crabs of different species which also make the Swamp their home can be seen.
URL:https://quadtt.com/event/caroni-bird-sanctuary-sunset-tour/
CATEGORIES:Outdoor Event
END:VEVENT
END:VCALENDAR