BEGIN:VCALENDAR
VERSION:2.0
PRODID:-//QUAD TT - ECPv6.3.2//NONSGML v1.0//EN
CALSCALE:GREGORIAN
METHOD:PUBLISH
X-WR-CALNAME:QUAD TT
X-ORIGINAL-URL:https://quadtt.com
X-WR-CALDESC:Events for QUAD TT
REFRESH-INTERVAL;VALUE=DURATION:PT1H
X-Robots-Tag:noindex
X-PUBLISHED-TTL:PT1H
BEGIN:VTIMEZONE
TZID:UTC
BEGIN:STANDARD
TZOFFSETFROM:+0000
TZOFFSETTO:+0000
TZNAME:UTC
DTSTART:20250101T000000
END:STANDARD
END:VTIMEZONE
BEGIN:VEVENT
DTSTART;TZID=UTC:20251025T063000
DTEND;TZID=UTC:20251025T150000
DTSTAMP:20260423T044134
CREATED:20251007T175808Z
LAST-MODIFIED:20251007T175808Z
UID:4138-1761373800-1761404400@quadtt.com
SUMMARY:Hiking with SPE
DESCRIPTION:Get ready for an unforgettable outdoor escape with the SPE UWI x SPE UTT Student Chapters! 🥾🌳\nWe’re heading deep into nature for a refreshing morning hike through the stunning Bamboo Cathedral\, a hidden gem you won’t want to miss! 🌿✨ \n📅 Date: Saturday 25th October 2025\n🕖 Meeting Time: 7:00 AM (UWI) | 6:30 AM (UTT)\n💵 Cost: $100 per person \nPayments are due by October 17th\, 2025.\nNo refunds will be issued after this date.\nPayments can be made to any executive member. 💰 \nTake a break from the books\, stretch your legs\, and breathe in the beauty of Trinidad’s lush outdoors 🌞💚\nAnd guess what? We have a surprise stop after the hike 🌊 but we’re keeping it secret until the day! 👀✨ \nDon’t forget to bring your food and drinks to stay fueled and refreshed throughout the day! 🥪💧 \nSpaces are limited. Secure your spot now by filling out the form below 👇
URL:https://quadtt.com/event/hiking-with-spe/
CATEGORIES:Outdoor Event,UTT Event
ATTACH;FMTTYPE=image/jpeg:https://quadtt.com/wp-content/uploads/2025/10/559076721_18381758137180409_547009502873480564_n.jpg
END:VEVENT
END:VCALENDAR