BEGIN:VCALENDAR
VERSION:2.0
PRODID:-//QUAD TT - ECPv6.3.2//NONSGML v1.0//EN
CALSCALE:GREGORIAN
METHOD:PUBLISH
X-WR-CALNAME:QUAD TT
X-ORIGINAL-URL:https://quadtt.com
X-WR-CALDESC:Events for QUAD TT
REFRESH-INTERVAL;VALUE=DURATION:PT1H
X-Robots-Tag:noindex
X-PUBLISHED-TTL:PT1H
BEGIN:VTIMEZONE
TZID:UTC
BEGIN:STANDARD
TZOFFSETFROM:+0000
TZOFFSETTO:+0000
TZNAME:UTC
DTSTART:20250101T000000
END:STANDARD
END:VTIMEZONE
BEGIN:VEVENT
DTSTART;TZID=UTC:20251024T180000
DTEND;TZID=UTC:20251024T213000
DTSTAMP:20260423T044121
CREATED:20251011T022217Z
LAST-MODIFIED:20251011T022217Z
UID:4181-1761328800-1761341400@quadtt.com
SUMMARY:VSATT Halloween Carpark Lime
DESCRIPTION:🩸 Enter if you dare…\nThe SVM Car Park turns HAUNTED this Halloween! 👻\n💀 Oct 24th\, 2025 | $15 Entry | Haunted House| 6-11pm\n🍴 Food & drinks on sale | Costumes mandatory 😈
URL:https://quadtt.com/event/vsatt-halloween-carpark-lime-2/
CATEGORIES:Faculty of Medical Sciences Event,Outdoor Event
ATTACH;FMTTYPE=image/jpeg:https://quadtt.com/wp-content/uploads/2025/10/562360977_1931500234082007_1568228510422800706_n.jpg
END:VEVENT
END:VCALENDAR