BEGIN:VCALENDAR
VERSION:2.0
PRODID:-//QUAD TT - ECPv6.3.2//NONSGML v1.0//EN
CALSCALE:GREGORIAN
METHOD:PUBLISH
X-WR-CALNAME:QUAD TT
X-ORIGINAL-URL:https://quadtt.com
X-WR-CALDESC:Events for QUAD TT
REFRESH-INTERVAL;VALUE=DURATION:PT1H
X-Robots-Tag:noindex
X-PUBLISHED-TTL:PT1H
BEGIN:VTIMEZONE
TZID:UTC
BEGIN:STANDARD
TZOFFSETFROM:+0000
TZOFFSETTO:+0000
TZNAME:UTC
DTSTART:20250101T000000
END:STANDARD
END:VTIMEZONE
BEGIN:VEVENT
DTSTART;TZID=UTC:20250914T070000
DTEND;TZID=UTC:20250914T160000
DTSTAMP:20260423T061118
CREATED:20250827T222215Z
LAST-MODIFIED:20250827T222215Z
UID:3898-1757833200-1757865600@quadtt.com
SUMMARY:Hike to Three Pools Waterfall
DESCRIPTION:Join us on Sunday 14th September 2025 as we journey to 3 Pools. This exciting cascade is located in Blanchisseuse and is an ideal for both adults and kids! \nThe trail to the Three Pools  begins at the Spring Bridge Road where the beautiful Marianne River flows lazily to the Caribbean Sea. The trail is very easy\, with one short incline at the start which takes us to the foot path overlooking the golden River. \nThrough the tropical rainforest\, we would be passing through an old cocoa plantation filled with breadfruit and pomerac trees.\nWe then swim through the 1st pool and 2nd in order to relax or take the plunge at the 3rd. Lifejackets are available for all participants. Non swimmers too are encouraged to join us!  \nThe trail would take approximately 15 – 20 minutes hike\, with a rating of 3/10 (easy). You and all your belongings will get wet.  \nCost: $140 Hike and maxi transportation \n• Reliable Transportation (Round Trip)\,\n• Professional Experienced Friendly Guides\,\n• Safety equipment (LifeJacket\, ropes\, firstaid kits)\n• Safe and secure event\,\n***Short Stop at Maracas for food purchase after the hike once time permits*** \nAssembly: 7am JFK Shuttle Stop UWI St Augustine Campus\nDeparture time: 7:30am.\nEstimated time of return: 5pm \nRegistration is open and your space is secured by payment only.  \nHow to book:\n1. WhatsApp message us to ensure spaces are available\n2. Make payment online to our Scotiabank account and send a photo of the completed transaction along with the names and contact number for each person.  \n**NO REFUNDS AFTER FINAL REGISTRATION DAY (12.9.2025)** \nFor more information contact Raiza (268-6608)\,\n Garvin (333-5913) or Terence 306-0257
URL:https://quadtt.com/event/hike-to-three-pools-waterfall/
CATEGORIES:Outdoor Event
ATTACH;FMTTYPE=image/jpeg:https://quadtt.com/wp-content/uploads/2025/08/539433849_18423607507100688_1868606512815464437_n.jpg
END:VEVENT
BEGIN:VEVENT
DTSTART;TZID=UTC:20250914T070000
DTEND;TZID=UTC:20250914T170000
DTSTAMP:20260423T061118
CREATED:20250909T034245Z
LAST-MODIFIED:20250909T034245Z
UID:3971-1757833200-1757869200@quadtt.com
SUMMARY:Coastal Clean Up
DESCRIPTION:Join us on Sunday 14th\, September for a coastal cleanup! Let’s unite to protect our shores\, preserve marine life and create a cleaner future💚💚 \n🚌 Transport provided – only $80\n📍 Meet at UWI for 7AM sharp\n📲 Scan the QR code to sign up today!\n📆 Deadline to Register – 12th September
URL:https://quadtt.com/event/coastal-clean-up/
CATEGORIES:Outdoor Event
ATTACH;FMTTYPE=image/jpeg:https://quadtt.com/wp-content/uploads/2025/09/541839885_18053399102440694_9211981704752010992_n-1.jpg
END:VEVENT
END:VCALENDAR