BEGIN:VCALENDAR
VERSION:2.0
PRODID:-//QUAD TT - ECPv6.3.2//NONSGML v1.0//EN
CALSCALE:GREGORIAN
METHOD:PUBLISH
X-ORIGINAL-URL:https://quadtt.com
X-WR-CALDESC:Events for QUAD TT
REFRESH-INTERVAL;VALUE=DURATION:PT1H
X-Robots-Tag:noindex
X-PUBLISHED-TTL:PT1H
BEGIN:VTIMEZONE
TZID:UTC
BEGIN:STANDARD
TZOFFSETFROM:+0000
TZOFFSETTO:+0000
TZNAME:UTC
DTSTART:20250101T000000
END:STANDARD
END:VTIMEZONE
BEGIN:VEVENT
DTSTART;TZID=UTC:20260402T183000
DTEND;TZID=UTC:20260402T200000
DTSTAMP:20260422T183253
CREATED:20260331T043850Z
LAST-MODIFIED:20260331T043956Z
UID:4691-1775154600-1775160000@quadtt.com
SUMMARY:LEN HAND: A film by Andres Antonopoulos and Deboleena Paul
DESCRIPTION:Len’  Hand is a documentary film about the art and culture of Tobago Island.   \nThe film is a collaboration of the filmmaker Andreas Antonopoulos and Choreographer Deboleena Paul. \nThe lyrics of the songs and dance movements are the only narrators of the history of the Island. The camera observes the Tobagonian people in their everyday lives\, the architecture of the island\, and its nature. \nThe film could be approached as an allegory for contemporary forms of political oppression.
URL:https://quadtt.com/event/len-hand-a-film-by-andres-antonopoulos-and-deboleena-paul/
CATEGORIES:Cultural Event,Educational Event,Nightlife Event
ATTACH;FMTTYPE=image/jpeg:https://quadtt.com/wp-content/uploads/2026/03/656022478_18111779704687961_8121090506366835239_n.jpg
END:VEVENT
BEGIN:VEVENT
DTSTART;TZID=UTC:20260328T160000
DTEND;TZID=UTC:20260328T190000
DTSTAMP:20260422T183253
CREATED:20260307T080203Z
LAST-MODIFIED:20260307T080203Z
UID:4551-1774713600-1774724400@quadtt.com
SUMMARY:Canvas & Mocktails: Mental Health Sip & Paint
DESCRIPTION:Canvas & Mocktails: Mental Health Sip & Paint 🎨 \nTake a break\, unwind\, and nurture your mind with MSSC Outreach x Mt Hope Art Society on Saturday 28th March at 4:00 PM at the SRC\, Mt. Hope  \nEnjoy a guided sit-down painting session designed to help you de-stress\, express yourself\, and recharge in a calm\, supportive environment. \n🐬✨ What’s included:\n• Guided painting session\n• Mocktails & drinks\n• Food & desserts\n• A peaceful space to relax and focus on your mental well-being \nFor payment\, please contact:\n🦋Samirah (778-7555)\n🦋Jivan (268-4599)\n🦋Angel (299-5890) \nWe can’t wait to see you there! 🫂☀️
URL:https://quadtt.com/event/canvas-mocktails-mental-health-sip-paint/
CATEGORIES:Awareness Event,Cultural Event,Faculty of Medical Sciences Event,Nightlife Event
ATTACH;FMTTYPE=image/jpeg:https://quadtt.com/wp-content/uploads/2026/03/639893862_18307147648276734_1784443122453523818_n.jpg
END:VEVENT
BEGIN:VEVENT
DTSTART;TZID=UTC:20260326T183000
DTEND;TZID=UTC:20260326T220000
DTSTAMP:20260422T183253
CREATED:20260318T031525Z
LAST-MODIFIED:20260318T031525Z
UID:4615-1774549800-1774562400@quadtt.com
SUMMARY:Engineering Students' Society Networking Gala
DESCRIPTION:As part of Engineering Week 2026\, the Engineering Students’ Society invites you to:  \n✨Engineering the Future: Networking Gala! ✨ \nThis event brings together engineering students\, alumni and industry professionals for an evening of keynote presentations and networking opportunities.  \n⚠️Spots are limited and allocated on a first come\, first served basis. Be sure to register early because this is an event you wouldn’t want to miss! \nDress Code: Business Casual👩‍💼👨‍💼 \nStudent Registration Link:  \nhttps://docs.google.com/forms/d/e/1FAIpQLSebL6oeCQZM7T4vFn3X4dHUsNB31C1mMBDXTCW4Iy82thFtwg/viewform?usp=header \nIndustry Professional Registration Link: \nhttps://docs.google.com/forms/d/e/1FAIpQLSebL6oeCQZM7T4vFn3X4dHUsNB31C1mMBDXTCW4Iy82thFtwg/viewform?usp=header
URL:https://quadtt.com/event/engineering-students-society-networking-gala/
CATEGORIES:Educational Event,Nightlife Event
ATTACH;FMTTYPE=image/jpeg:https://quadtt.com/wp-content/uploads/2026/03/654005252_18387165169157598_7674162323603825282_n.jpg
END:VEVENT
BEGIN:VEVENT
DTSTART;TZID=UTC:20260321T180000
DTEND;TZID=UTC:20260322T180000
DTSTAMP:20260422T183253
CREATED:20260318T032305Z
LAST-MODIFIED:20260318T032305Z
UID:4619-1774116000-1774202400@quadtt.com
SUMMARY:How to Kill a Sin – A Powerful Lenten Experience
DESCRIPTION:This Lent\, step into a gripping story of struggle\, redemption\, and transformation. \nSin is subtle. Sin is persistent.\nBut can it be defeated? \n📅 March 21 | 6 PM\n📅 March 22 | 4 PM\n📍 LRC\, UWI\n🎟️ Tickets: $100 \nGet your tickets – before they’re gone. \n📲 WhatsApp 1 (868) 746-7893 or 771-1300 for more info. \nDon’t just confess it—conquer it!! \nPlease support CSM’s biggest fundraiser – and share this flyer with your friends\, family and parishes!!
URL:https://quadtt.com/event/how-to-kill-a-sin-a-powerful-lenten-experience/
CATEGORIES:Awareness Event,Cultural Event,Nightlife Event
ATTACH;FMTTYPE=image/jpeg:https://quadtt.com/wp-content/uploads/2026/03/649247501_18590237515062663_2862155598486184895_n.jpg
END:VEVENT
BEGIN:VEVENT
DTSTART;TZID=UTC:20251026T150000
DTEND;TZID=UTC:20251026T190000
DTSTAMP:20260422T183253
CREATED:20250920T205432Z
LAST-MODIFIED:20251011T022527Z
UID:4051-1761490800-1761505200@quadtt.com
SUMMARY:Tropical Temptation Cooler Cruise
DESCRIPTION:🔥✨ The RUMOURS are TRUE! ✨🔥\nGrab your crew\, pack your cooler\, and get ready to set sail on the ULTIMATE cooler cruise 🚢💦 \nBASATT 🇧🇧x JASATT🇯🇲presents:\nTROPICAL TEMPTATION 🌴💋The hottest escape of the season! 🥵 \n📅 Saturday\, October 25th\, 2025\n⏰ 3:00 PM\n📍 Ocean Pelican\, Chaguaramas\n🎫 Early Bird Armbands – $150 TTD\n🚍Transport will be provided \n📋Get listed today at:\nCanada Hall :\nAshliy (246) 287-9800 & Keon +1 (868) 276-0162 \nJGI Hall :\nAshley +1(246) 848-1322 & Kimberly +1 (868) 315-5258 \nFreedom Hall :\nDiego +1(868) 310-4342 & Khalil +1 (246) 237-3042 \nSAL Hall :\nZachary +1 (868) 327-2784 & Kerri +1 (246) 286-2450 \nMain Campus :\nToneika +1 (868)396- 6264 & Natalya +1 (868) 475-4709 \n✨ALL ARMBANDS will be distributed on the day of the event! 🎟️ Please make sure your name is recorded once you’ve paid for your ticket. \n✨ PSA: All JAMBIM tickets are STILL valid! Just bring your ticket and exchange it with any BASATT or JASATT exec for your new pass. ✅
URL:https://quadtt.com/event/tropical-temptation-cooler-cruise/
CATEGORIES:Cultural Event,Nightlife Event
ATTACH;FMTTYPE=image/jpeg:https://quadtt.com/wp-content/uploads/2025/09/550129556_18396949099189765_5853728134239830935_n.jpg
END:VEVENT
BEGIN:VEVENT
DTSTART;TZID=UTC:20250926T163000
DTEND;TZID=UTC:20250926T200000
DTSTAMP:20260422T183253
CREATED:20250920T222704Z
LAST-MODIFIED:20250920T222704Z
UID:4054-1758904200-1758916800@quadtt.com
SUMMARY:DSATT Freshers Party - Say Ahh-Loha
DESCRIPTION:Say Ahhh-LOHA! ✨🌺 \nIt’s time to kick off the semester in style with DSATT’s welcome Freshers Lime 🎉 \n📅 Friday\, September 26\n🕓 4:30 PM – 8:00 PM\n📍 New Dental Extension Foyer \n🎶 Live DJ | 🎁 Door Prizes | 🥂 BYOB | 🎮 Fun Games \n💸 DDS Year Ones: FREE | DDS Students: $20 | Non-DDS: $40 \n🥃 Free shots on entry + Non-alcoholic drinks for sale! \nCome ready to vibe\, dance\, and celebrate the start of something amazing 🌴💃🕺  \nSpecial prize available for the most represented year group so bring a friend or ten 🤪😉
URL:https://quadtt.com/event/dsatt-freshers-party-say-ahh-loha/
CATEGORIES:Faculty of Medical Sciences Event,Nightlife Event
ATTACH;FMTTYPE=image/jpeg:https://quadtt.com/wp-content/uploads/2025/09/543763862_2039974610142276_5192063667943500338_n.jpg
END:VEVENT
BEGIN:VEVENT
DTSTART;TZID=UTC:20250906T000000
DTEND;TZID=UTC:20250906T030000
DTSTAMP:20260422T183253
CREATED:20250826T182541Z
LAST-MODIFIED:20250826T182541Z
UID:3889-1757116800-1757127600@quadtt.com
SUMMARY:House of the Pelican: Cruise for a Cause
DESCRIPTION:Where the party meets purpose\, Guild Fete: Cruise for a Cause. \n📅 Sep 06th |\n🕑 12PM – 3AM |\n📍HARBOUR MASTER | \nTicket Info to be Posted Soon‼️
URL:https://quadtt.com/event/house-of-the-pelican-cruise-for-a-cause/
CATEGORIES:Nightlife Event
ATTACH;FMTTYPE=image/jpeg:https://quadtt.com/wp-content/uploads/2025/08/540514279_18531036184065065_8153827937018094808_n.jpg
END:VEVENT
BEGIN:VEVENT
DTSTART;TZID=UTC:20250510T140000
DTEND;TZID=UTC:20250510T190000
DTSTAMP:20260422T183253
CREATED:20250506T132206Z
LAST-MODIFIED:20250506T132206Z
UID:3668-1746885600-1746903600@quadtt.com
SUMMARY:JAMBIM: Sunset Summer Starter
DESCRIPTION:The Jamaica Students’ Association x Barbados Students’ Association presents JAMBIM🇯🇲🇧🇧 \nBut this year with a twist..🫣 \nWe outside on the Ocean Pelican for the ultimate mash-up of big\, bad dancehall\, bare bashment soca and of course\, steamm!🕺🏾 \nBarbies wear your baddest swimsuits👙 and yaardies\, step out in your freshest beach wear🩳. \nOn May 10th from 2pm\, yes you read that right\, the day AFTER exams we doing it relll brawling!!🥳 \nJAMBIM the Sunset Summer Starta.. Coming soon😉
URL:https://quadtt.com/event/jambim-sunset-summer-starter/
CATEGORIES:Nightlife Event
ATTACH;FMTTYPE=image/jpeg:https://quadtt.com/wp-content/uploads/2025/05/491442888_18377752027189765_5530147563327643565_n.jpg
END:VEVENT
END:VCALENDAR