BEGIN:VCALENDAR
VERSION:2.0
PRODID:-//QUAD TT - ECPv6.3.2//NONSGML v1.0//EN
CALSCALE:GREGORIAN
METHOD:PUBLISH
X-WR-CALNAME:QUAD TT
X-ORIGINAL-URL:https://quadtt.com
X-WR-CALDESC:Events for QUAD TT
REFRESH-INTERVAL;VALUE=DURATION:PT1H
X-Robots-Tag:noindex
X-PUBLISHED-TTL:PT1H
BEGIN:VTIMEZONE
TZID:UTC
BEGIN:STANDARD
TZOFFSETFROM:+0000
TZOFFSETTO:+0000
TZNAME:UTC
DTSTART:20250101T000000
END:STANDARD
END:VTIMEZONE
BEGIN:VEVENT
DTSTART;TZID=UTC:20250906T000000
DTEND;TZID=UTC:20250906T030000
DTSTAMP:20260423T063140
CREATED:20250826T182541Z
LAST-MODIFIED:20250826T182541Z
UID:3889-1757116800-1757127600@quadtt.com
SUMMARY:House of the Pelican: Cruise for a Cause
DESCRIPTION:Where the party meets purpose\, Guild Fete: Cruise for a Cause. \n📅 Sep 06th |\n🕑 12PM – 3AM |\n📍HARBOUR MASTER | \nTicket Info to be Posted Soon‼️
URL:https://quadtt.com/event/house-of-the-pelican-cruise-for-a-cause/
CATEGORIES:Nightlife Event
ATTACH;FMTTYPE=image/jpeg:https://quadtt.com/wp-content/uploads/2025/08/540514279_18531036184065065_8153827937018094808_n.jpg
END:VEVENT
END:VCALENDAR