BEGIN:VCALENDAR
VERSION:2.0
PRODID:-//QUAD TT - ECPv6.3.2//NONSGML v1.0//EN
CALSCALE:GREGORIAN
METHOD:PUBLISH
X-ORIGINAL-URL:https://quadtt.com
X-WR-CALDESC:Events for QUAD TT
REFRESH-INTERVAL;VALUE=DURATION:PT1H
X-Robots-Tag:noindex
X-PUBLISHED-TTL:PT1H
BEGIN:VTIMEZONE
TZID:UTC
BEGIN:STANDARD
TZOFFSETFROM:+0000
TZOFFSETTO:+0000
TZNAME:UTC
DTSTART:20260101T000000
END:STANDARD
END:VTIMEZONE
BEGIN:VEVENT
DTSTART;TZID=UTC:20260417T100000
DTEND;TZID=UTC:20260417T120000
DTSTAMP:20260422T181300
CREATED:20260331T051710Z
LAST-MODIFIED:20260331T051735Z
UID:4700-1776420000-1776427200@quadtt.com
SUMMARY:Unearthing Traditions: Stories of Language & Culture – Volume Two Book Launch
DESCRIPTION:The Centre for Language Learning is pleased to announce the upcoming release of Unearthing Traditions: Stories of Language & Culture – Volume Two 📚✨ Join us for the official book launch on April 17 at 10:00 am. Light refreshments will be served\, and copies of both Volume One and Volume Two will be available for purchase (LINX and cash accepted). Sales facilitated by @charransttbookstore \nThis event is free and open to the public\, but reservations are required. \nPlease complete this form to confirm your attendance. \nCopies of Volume Two can also be pre-ordered via this link. \nWe look forward to celebrating with you!
URL:https://quadtt.com/event/unearthing-traditions-stories-of-language-culture-volume-two-book-launch/
CATEGORIES:Cultural Event,Educational Event,Language Event
ATTACH;FMTTYPE=image/jpeg:https://quadtt.com/wp-content/uploads/2026/03/657359354_18075104249551766_273994043118095467_n.jpg
END:VEVENT
END:VCALENDAR