BEGIN:VCALENDAR
VERSION:2.0
PRODID:-//QUAD TT - ECPv6.3.2//NONSGML v1.0//EN
CALSCALE:GREGORIAN
METHOD:PUBLISH
X-ORIGINAL-URL:https://quadtt.com
X-WR-CALDESC:Events for QUAD TT
REFRESH-INTERVAL;VALUE=DURATION:PT1H
X-Robots-Tag:noindex
X-PUBLISHED-TTL:PT1H
BEGIN:VTIMEZONE
TZID:UTC
BEGIN:STANDARD
TZOFFSETFROM:+0000
TZOFFSETTO:+0000
TZNAME:UTC
DTSTART:20260101T000000
END:STANDARD
END:VTIMEZONE
BEGIN:VEVENT
DTSTART;TZID=UTC:20260305T130000
DTEND;TZID=UTC:20260305T170000
DTSTAMP:20260422T193340
CREATED:20260217T184531Z
LAST-MODIFIED:20260217T184531Z
UID:4453-1772715600-1772730000@quadtt.com
SUMMARY:Jeux De Société
DESCRIPTION:
URL:https://quadtt.com/event/jeux-de-societe/
CATEGORIES:Cultural Event,Language Event
ATTACH;FMTTYPE=image/jpeg:https://quadtt.com/wp-content/uploads/2026/02/627052611_17954736708063145_3438693083382494834_n.jpg
END:VEVENT
END:VCALENDAR