BEGIN:VCALENDAR
VERSION:2.0
PRODID:-//QUAD TT - ECPv6.3.2//NONSGML v1.0//EN
CALSCALE:GREGORIAN
METHOD:PUBLISH
X-WR-CALNAME:QUAD TT
X-ORIGINAL-URL:https://quadtt.com
X-WR-CALDESC:Events for QUAD TT
REFRESH-INTERVAL;VALUE=DURATION:PT1H
X-Robots-Tag:noindex
X-PUBLISHED-TTL:PT1H
BEGIN:VTIMEZONE
TZID:UTC
BEGIN:STANDARD
TZOFFSETFROM:+0000
TZOFFSETTO:+0000
TZNAME:UTC
DTSTART:20260101T000000
END:STANDARD
END:VTIMEZONE
BEGIN:VEVENT
DTSTART;TZID=UTC:20260423T130000
DTEND;TZID=UTC:20260423T170000
DTSTAMP:20260422T045909
CREATED:20260421T131330Z
LAST-MODIFIED:20260421T131330Z
UID:4813-1776949200-1776963600@quadtt.com
SUMMARY:MSSC x TTMSA TABLE TENNIS TOURNAMENT
DESCRIPTION:Are you ready to compete and show off your ping pong skills? There is absolutely NO fee attached to register and come play in our upcoming tournament so what’s your excuse not to join?😏 CLICK THE LINK IN OUR BIO TO REGISTER🧑🏾‍💻 \nWe are welcoming all skill levels and all FMS students to partake!! \nThe tournament will take place on Thursday April 23rd at our very own SRC so be there and come out with your whole team to support 🥰
URL:https://quadtt.com/event/mssc-x-ttmsa-table-tennis-tournament/
CATEGORIES:Faculty of Medical Sciences Event,Sports Event
ATTACH;FMTTYPE=image/jpeg:https://quadtt.com/wp-content/uploads/2026/04/671271468_18314188618276734_5105304521019644190_n.jpg
END:VEVENT
END:VCALENDAR