BEGIN:VCALENDAR
VERSION:2.0
PRODID:-//QUAD TT - ECPv6.3.2//NONSGML v1.0//EN
CALSCALE:GREGORIAN
METHOD:PUBLISH
X-WR-CALNAME:QUAD TT
X-ORIGINAL-URL:https://quadtt.com
X-WR-CALDESC:Events for QUAD TT
REFRESH-INTERVAL;VALUE=DURATION:PT1H
X-Robots-Tag:noindex
X-PUBLISHED-TTL:PT1H
BEGIN:VTIMEZONE
TZID:UTC
BEGIN:STANDARD
TZOFFSETFROM:+0000
TZOFFSETTO:+0000
TZNAME:UTC
DTSTART:20260101T000000
END:STANDARD
END:VTIMEZONE
BEGIN:VEVENT
DTSTART;TZID=UTC:20260322T170000
DTEND;TZID=UTC:20260322T200000
DTSTAMP:20260422T074903
CREATED:20260318T030739Z
LAST-MODIFIED:20260318T030739Z
UID:4612-1774198800-1774209600@quadtt.com
SUMMARY:Garba and Dandiya Raas
DESCRIPTION:🌼✨ Garba & Dandiya Raas 2026 ✨🌼\nThe UWI Hindu Society\, in collaboration with several Hindu and cultural organizations\, warmly invites you to an evening of vibrant culture\, devotion\, and celebration at our Garba & Dandiya Raas event.\n📅 Date: Sunday 22nd March\, 2026\n⏰ Puja: 5:00pm Dancing: 6:00 PM\n📍 Venue: NCIC Nagar\, Bisram Gopie Auditorium \nJoin us for an unforgettable night where culture\, music\, and tradition come alive! 💃🏽🕺🏽
URL:https://quadtt.com/event/garba-and-dandiya-raas-2/
CATEGORIES:Cultural Event,Faculty of Medical Sciences Event
ATTACH;FMTTYPE=image/jpeg:https://quadtt.com/wp-content/uploads/2026/03/652774965_1097921856726772_543396408243637196_n.jpg
END:VEVENT
END:VCALENDAR