BEGIN:VCALENDAR
VERSION:2.0
PRODID:-//QUAD TT - ECPv6.3.2//NONSGML v1.0//EN
CALSCALE:GREGORIAN
METHOD:PUBLISH
X-ORIGINAL-URL:https://quadtt.com
X-WR-CALDESC:Events for QUAD TT
REFRESH-INTERVAL;VALUE=DURATION:PT1H
X-Robots-Tag:noindex
X-PUBLISHED-TTL:PT1H
BEGIN:VTIMEZONE
TZID:UTC
BEGIN:STANDARD
TZOFFSETFROM:+0000
TZOFFSETTO:+0000
TZNAME:UTC
DTSTART:20260101T000000
END:STANDARD
END:VTIMEZONE
BEGIN:VEVENT
DTSTART;TZID=UTC:20260227T170000
DTEND;TZID=UTC:20260227T190000
DTSTAMP:20260422T075059
CREATED:20260222T212326Z
LAST-MODIFIED:20260222T212326Z
UID:4465-1772211600-1772218800@quadtt.com
SUMMARY:Miss FMS Pageant
DESCRIPTION:Date: Friday 27th February\, 2026\n⏰ 5pm to 9pm \nThe spotlight is waiting. Who will take home the win and be crowned MISS FMS😉? \nCome out and rep your school because admission is FREE🥳
URL:https://quadtt.com/event/miss-fms-pageant/
CATEGORIES:Cultural Event,Faculty of Medical Sciences Event
ATTACH;FMTTYPE=image/jpeg:https://quadtt.com/wp-content/uploads/2026/02/635084557_18305948875276734_1098992969269505341_n.jpg
END:VEVENT
END:VCALENDAR