BEGIN:VCALENDAR
VERSION:2.0
PRODID:-//QUAD TT - ECPv6.3.2//NONSGML v1.0//EN
CALSCALE:GREGORIAN
METHOD:PUBLISH
X-WR-CALNAME:QUAD TT
X-ORIGINAL-URL:https://quadtt.com
X-WR-CALDESC:Events for QUAD TT
REFRESH-INTERVAL;VALUE=DURATION:PT1H
X-Robots-Tag:noindex
X-PUBLISHED-TTL:PT1H
BEGIN:VTIMEZONE
TZID:UTC
BEGIN:STANDARD
TZOFFSETFROM:+0000
TZOFFSETTO:+0000
TZNAME:UTC
DTSTART:20260101T000000
END:STANDARD
END:VTIMEZONE
BEGIN:VEVENT
DTSTART;TZID=UTC:20260328T080000
DTEND;TZID=UTC:20260329T170000
DTSTAMP:20260419T122531
CREATED:20260318T022101Z
LAST-MODIFIED:20260318T022101Z
UID:4609-1774684800-1774803600@quadtt.com
SUMMARY:UWI Open Days
DESCRIPTION:One of our biggest events is happening on March 28–29 2026\, 10am–4pm. \nIf you’re thinking about attending The UWI\, come see what possibilities await👇 \n✅Campus tours\n✅Meet lecturers\, students & alumni\n✅Explore 200+ programmes at faculty booths\n✅Meet Peli the Pelican 👏\n…and lots of other activities (merch included 😉) \n🔗 Sign up! @ sta.uwi.edu/opendays/\n📍 UWI St. Augustine @ the JFK Quadrangle \nBring your family\, bring your friends\, and get a feel for the UWI spirit.
URL:https://quadtt.com/event/uwi-open-days/
CATEGORIES:Awareness Event,Educational Event,Faculty of Medical Sciences Event,Faculty of Science & Technology Event
ATTACH;FMTTYPE=image/jpeg:https://quadtt.com/wp-content/uploads/2026/03/632941366_18081897392586144_4684074813915208609_n.jpg
END:VEVENT
END:VCALENDAR