BEGIN:VCALENDAR
VERSION:2.0
PRODID:-//QUAD TT - ECPv6.3.2//NONSGML v1.0//EN
CALSCALE:GREGORIAN
METHOD:PUBLISH
X-ORIGINAL-URL:https://quadtt.com
X-WR-CALDESC:Events for QUAD TT
REFRESH-INTERVAL;VALUE=DURATION:PT1H
X-Robots-Tag:noindex
X-PUBLISHED-TTL:PT1H
BEGIN:VTIMEZONE
TZID:UTC
BEGIN:STANDARD
TZOFFSETFROM:+0000
TZOFFSETTO:+0000
TZNAME:UTC
DTSTART:20250101T000000
END:STANDARD
END:VTIMEZONE
BEGIN:VEVENT
DTSTART;TZID=UTC:20251019T080000
DTEND;TZID=UTC:20251025T170000
DTSTAMP:20260419T192105
CREATED:20250823T022420Z
LAST-MODIFIED:20251011T021316Z
UID:3854-1760860800-1761411600@quadtt.com
SUMMARY:Chemistry Week
DESCRIPTION:Spice up your science!\nJoin us for National Chemistry Week 2025 with the theme: “The Hidden Life of Spices” 🧪✨\n🎉 There will be fun-filled days of trivia\, games\, slime\, scavenger hunts\, and more!\n🗓 Mark your calendars and come explore the science behind your spice rack! 🧂💥
URL:https://quadtt.com/event/chemistry-week/
CATEGORIES:Educational Event,Faculty of Science & Technology Event
ATTACH;FMTTYPE=image/jpeg:https://quadtt.com/wp-content/uploads/2025/08/532398212_1713264139355350_1328094173042516298_n.jpg
END:VEVENT
BEGIN:VEVENT
DTSTART;TZID=UTC:20251021T080000
DTEND;TZID=UTC:20251024T170000
DTSTAMP:20260419T192105
CREATED:20251011T005150Z
LAST-MODIFIED:20251011T005150Z
UID:4168-1761033600-1761325200@quadtt.com
SUMMARY:UTT Point Lisas Spirit Week
DESCRIPTION:🎉 The wait is over! 🎉\nHere’s the official lineup for Spirit Week 2025 💚\nGet ready to dress up\, have fun\, and show your UTT pride all week long 👏✨ \n🎭 Culture Day (Tuesday 21st)\nShow off your roots and represent your culture or one you admire 🌍✨ \n🍿 PJ’s & Movie Day (Wednesday 22nd)\nGet cozy in your favorite pajamas and enjoy a fun movie day 🎬😴 \n🦸 Character Day (Thursday 23rd)\nBring your favorite movie\, show\, or book character to life 💫🎭 \n🕺 Flashback Day (Friday 24th)\nTravel back in time and dress to match your favorite decade 🪩📼
URL:https://quadtt.com/event/utt-point-lisas-spirit-week/
CATEGORIES:UTT Event
ATTACH;FMTTYPE=image/jpeg:https://quadtt.com/wp-content/uploads/2025/10/561594587_18291366607257057_2916795919920460220_n.jpg
END:VEVENT
BEGIN:VEVENT
DTSTART;TZID=UTC:20251024T180000
DTEND;TZID=UTC:20251024T213000
DTSTAMP:20260419T192105
CREATED:20251011T022217Z
LAST-MODIFIED:20251011T022217Z
UID:4181-1761328800-1761341400@quadtt.com
SUMMARY:VSATT Halloween Carpark Lime
DESCRIPTION:🩸 Enter if you dare…\nThe SVM Car Park turns HAUNTED this Halloween! 👻\n💀 Oct 24th\, 2025 | $15 Entry | Haunted House| 6-11pm\n🍴 Food & drinks on sale | Costumes mandatory 😈
URL:https://quadtt.com/event/vsatt-halloween-carpark-lime-2/
CATEGORIES:Faculty of Medical Sciences Event,Outdoor Event
ATTACH;FMTTYPE=image/jpeg:https://quadtt.com/wp-content/uploads/2025/10/562360977_1931500234082007_1568228510422800706_n.jpg
END:VEVENT
BEGIN:VEVENT
DTSTART;TZID=UTC:20251024T220000
DTEND;TZID=UTC:20251024T233000
DTSTAMP:20260419T192105
CREATED:20251022T082047Z
LAST-MODIFIED:20251022T082047Z
UID:4271-1761343200-1761348600@quadtt.com
SUMMARY:Spooky Movie Marathon Halloween Party
DESCRIPTION:The Night Creeps Closer and so do they….😈🧟‍♀️🔪 \nWe Are inviting you to join us on October 24th at 10 PM for a night of terror\, screams\, and thrills at our Halloween Party: Spooky Movie Marathon Edition‼️ \n👻 Dress in your BEST or SCARIEST costumes and prepare for blood-curdling classics\, bone-chilling slashers\, and twisted holiday horrors that’ll haunt your dreams…😈 \n🎬 Location: Freedom Hall \n💀 Early Bird Tickets: TT$80\n🩸 Tier 1 Tickets: TT$100 \n☠️ Rated R – Chainsaws\, monsters\, maniacs\, and more await… \n🕷️ Come for the scares\, stay for the good vibes and gruesome fun! \nGet Listed NOW‼️😈📋 \nCanada Hall\n📲 Renico\, Rick\, Tamia \nSAL Hall\n📲 Marissa\, Natalya  \n*JGI Hall*\n📲 Kezia Edwards\, John-Dag \n*Freedom Hall*\n📲 Thandie\, Jemima \nWill you survive the night? 🎥💀😈
URL:https://quadtt.com/event/spooky-movie-marathon-halloween-party/
CATEGORIES:Cultural Event
ATTACH;FMTTYPE=image/jpeg:https://quadtt.com/wp-content/uploads/2025/10/563871710_17896491411319819_1661632050329223658_n.jpg
END:VEVENT
END:VCALENDAR