BEGIN:VCALENDAR
VERSION:2.0
PRODID:-//QUAD TT - ECPv6.3.2//NONSGML v1.0//EN
CALSCALE:GREGORIAN
METHOD:PUBLISH
X-ORIGINAL-URL:https://quadtt.com
X-WR-CALDESC:Events for QUAD TT
REFRESH-INTERVAL;VALUE=DURATION:PT1H
X-Robots-Tag:noindex
X-PUBLISHED-TTL:PT1H
BEGIN:VTIMEZONE
TZID:UTC
BEGIN:STANDARD
TZOFFSETFROM:+0000
TZOFFSETTO:+0000
TZNAME:UTC
DTSTART:20250101T000000
END:STANDARD
END:VTIMEZONE
BEGIN:VEVENT
DTSTART;TZID=UTC:20251017T090000
DTEND;TZID=UTC:20251017T150000
DTSTAMP:20260419T192705
CREATED:20251011T010227Z
LAST-MODIFIED:20251011T022505Z
UID:4171-1760691600-1760713200@quadtt.com
SUMMARY:EACC Presents: The Korean Culture Experience
DESCRIPTION:Celebrate 40 years of friendship between The Republic of Korea and The Republic of Trinidad & Tobago with us at this unforgettable cultural event! 🌸 \n📍 CLL Auditorium\, The UWI St. Augustine Campus\n🗓 Friday\, Oct 17th\, 2025\n⏰ 9:00 AM – 3:00 PM (Booths Start @ 9:00 & Performances @ 10:00) \nImmerse yourself in the magic of Korea through:\n✨ Cultural booths & games\n✨ Korean artistic performances\n✨ Taekwon-Do demonstration\n✨ Theatrical play\n✨ Movie screening\n✨ Authentic Korean food  \n🎟 Free entry for all — but spots are limited! \n🎫 Ticket Info: \nUWI Students: Contact the East Asian Culture Club (@eaccuwi) on Instagram or Facebook for campus collection. \nGeneral Public: Collect tickets at the Embassy of the Republic of Korea\, 36 Elizabeth Street\, Port of Spain. \nIn collaboration with the Embassy of the Republic of Korea and the Centre for Language Learning (CLL). \nDon’t miss this full-day celebration of culture\, art\, and connection 🇰🇷💫
URL:https://quadtt.com/event/eacc-presents-the-korean-culture-experience/
CATEGORIES:Cultural Event
ATTACH;FMTTYPE=image/jpeg:https://quadtt.com/wp-content/uploads/2025/10/560379768_18413371747116679_7601412662869774246_n.jpg
END:VEVENT
END:VCALENDAR