BEGIN:VCALENDAR
VERSION:2.0
PRODID:-//QUAD TT - ECPv6.3.2//NONSGML v1.0//EN
CALSCALE:GREGORIAN
METHOD:PUBLISH
X-WR-CALNAME:QUAD TT
X-ORIGINAL-URL:https://quadtt.com
X-WR-CALDESC:Events for QUAD TT
REFRESH-INTERVAL;VALUE=DURATION:PT1H
X-Robots-Tag:noindex
X-PUBLISHED-TTL:PT1H
BEGIN:VTIMEZONE
TZID:UTC
BEGIN:STANDARD
TZOFFSETFROM:+0000
TZOFFSETTO:+0000
TZNAME:UTC
DTSTART:20250101T000000
END:STANDARD
END:VTIMEZONE
BEGIN:VEVENT
DTSTART;TZID=UTC:20251009T080000
DTEND;TZID=UTC:20251014T170000
DTSTAMP:20260419T193139
CREATED:20251011T021117Z
LAST-MODIFIED:20251011T021117Z
UID:4177-1759996800-1760461200@quadtt.com
SUMMARY:Click and Compete Creative Photography Competition
DESCRIPTION:Click & Compete – Creative Photo Challenge!📸  \n🎯 Theme: Campus Life \nShow us student life through your lens! Friendships\, routines\, events\, and hidden moments that show authentic UWI campus life. \n✨ How to Enter:\n✔ Capture your best Campus Life shots using creativity\, composition & editing.\n✔ Submit your photo with a short description or story behind the shot via the submission link. \n🏆 Categories Awarded:\n– Most Creative\n– Best Composition\n– Best Story \n🌟 Recognition:\nWinners will be featured on the club’s IG page — your photo and concept in the spotlight! \n📅 Submissions Open: October 9th 2025\n⏰ Deadline: October 15th 2025\n📍 IG Spotlight: October 18th 2025 \n👉 Find our submission link in our IG bio OR on our official DMC WhatsApp Group Announcements!
URL:https://quadtt.com/event/click-and-compete-creative-photography-competition/
ATTACH;FMTTYPE=image/jpeg:https://quadtt.com/wp-content/uploads/2025/10/561779538_17902649547276130_9214397492444147305_n.jpg
END:VEVENT
BEGIN:VEVENT
DTSTART;TZID=UTC:20251010T100000
DTEND;TZID=UTC:20251011T170000
DTSTAMP:20260419T193139
CREATED:20250916T193523Z
LAST-MODIFIED:20250916T193523Z
UID:4024-1760090400-1760202000@quadtt.com
SUMMARY:World Cocoa & Chocolate Day Expo 2025
DESCRIPTION:WCCD11\, the expo in celebration of World Cocoa & Chocolate Day is happening in October at UWI SPEC\, the Sport and Physical Education Centre.\nBefore the expo happens\, you will get a sneak peek at some of our exhibitors if you participate in the Chocolate Island Crawl. Details are in the blog post linked below the Crawl date and also posted in the event timeline.\nChocolate Island Crawl – Sep 13 to Oct 11 \nFinals of IICC10: October 6\, 2025 (Witness the finals\, by invitation only. For an invitation\, please email sta-crc@uwi.edu)\nExpo Day 1: October 10\, 2025\nExpo Day 2: October 11\, 2025
URL:https://quadtt.com/event/world-cocoa-chocolate-day-expo-2025/
CATEGORIES:Educational Event
ATTACH;FMTTYPE=image/jpeg:https://quadtt.com/wp-content/uploads/2025/09/World-Cocoa-and-Chocolate-Day-Expo-2025.jpg
END:VEVENT
BEGIN:VEVENT
DTSTART;TZID=UTC:20251011T070000
DTEND;TZID=UTC:20251011T170000
DTSTAMP:20260419T193139
CREATED:20251008T040124Z
LAST-MODIFIED:20251008T040124Z
UID:4155-1760166000-1760202000@quadtt.com
SUMMARY:T&T Field Naturalists' Club Trip to Icacos Wetlands & Bowen Trace
DESCRIPTION:Field trips are undertaken by the Club for the edification and enjoyment of its members. The guidebook for these trips is the Trinidad and Tobago Field Naturalists’ Club Trail Guide Second Edition (2006). Only registered members may participate in field trips. All participants are expected to adhere to the Country Code set out in Chapter 2 of the Trail Guide and to be familiar with the safety recommendations listed therein. General Club Trips are held on the last Sunday of the month.
URL:https://quadtt.com/event/tt-field-naturalists-club-trip-to-icacos-wetlands-bowen-trace/
CATEGORIES:Faculty of Science & Technology Event,Outdoor Event,T&T Field Naturalists Club Event
ATTACH;FMTTYPE=image/jpeg:https://quadtt.com/wp-content/uploads/2022/09/Trinidad-and-Tobago-Field-Naturalists-Club-Outdoor-Event.jpg
END:VEVENT
END:VCALENDAR