BEGIN:VCALENDAR
VERSION:2.0
PRODID:-//QUAD TT - ECPv6.3.2//NONSGML v1.0//EN
CALSCALE:GREGORIAN
METHOD:PUBLISH
X-ORIGINAL-URL:https://quadtt.com
X-WR-CALDESC:Events for QUAD TT
REFRESH-INTERVAL;VALUE=DURATION:PT1H
X-Robots-Tag:noindex
X-PUBLISHED-TTL:PT1H
BEGIN:VTIMEZONE
TZID:UTC
BEGIN:STANDARD
TZOFFSETFROM:+0000
TZOFFSETTO:+0000
TZNAME:UTC
DTSTART:20250101T000000
END:STANDARD
END:VTIMEZONE
BEGIN:VEVENT
DTSTART;TZID=UTC:20251002T080000
DTEND;TZID=UTC:20251002T180000
DTSTAMP:20260419T192818
CREATED:20250920T203801Z
LAST-MODIFIED:20250920T203801Z
UID:4044-1759392000-1759428000@quadtt.com
SUMMARY:FST Marketplace
DESCRIPTION:The vibe is set\, and the stalls are ready! \nFrom hidden talents to bold innovations\, our entrepreneurs are bringing their passions to life.  \nShow up\, discover something new and make sure not to leave empty-handed. \nThis isn’t just a marketplace\, it’s a movement.
URL:https://quadtt.com/event/fst-marketplace/
CATEGORIES:Faculty of Science & Technology Event
ATTACH;FMTTYPE=image/jpeg:https://quadtt.com/wp-content/uploads/2025/09/552460020_18387588589122581_6303278586059909203_n.jpg
END:VEVENT
END:VCALENDAR