BEGIN:VCALENDAR
VERSION:2.0
PRODID:-//QUAD TT - ECPv6.3.2//NONSGML v1.0//EN
CALSCALE:GREGORIAN
METHOD:PUBLISH
X-WR-CALNAME:QUAD TT
X-ORIGINAL-URL:https://quadtt.com
X-WR-CALDESC:Events for QUAD TT
REFRESH-INTERVAL;VALUE=DURATION:PT1H
X-Robots-Tag:noindex
X-PUBLISHED-TTL:PT1H
BEGIN:VTIMEZONE
TZID:UTC
BEGIN:STANDARD
TZOFFSETFROM:+0000
TZOFFSETTO:+0000
TZNAME:UTC
DTSTART:20250101T000000
END:STANDARD
END:VTIMEZONE
BEGIN:VEVENT
DTSTART;TZID=UTC:20250902T100000
DTEND;TZID=UTC:20250902T170000
DTSTAMP:20260419T203409
CREATED:20250826T183253Z
LAST-MODIFIED:20250826T183253Z
UID:3892-1756807200-1756832400@quadtt.com
SUMMARY:Guild Fest 2025: House of the Pelican
DESCRIPTION:Step into the House of the Pelican 🪽  \nWhere culture meets celebration!  \nGet ready for Guild Fest 2025: vibrant vibes\, endless energy\, and a campus experience like no other!
URL:https://quadtt.com/event/guild-fest-2025-house-of-the-pelican/
CATEGORIES:Outdoor Event
ATTACH;FMTTYPE=image/jpeg:https://quadtt.com/wp-content/uploads/2025/08/536791947_18530107513065065_2480451313725860537_n.jpg
END:VEVENT
END:VCALENDAR