BEGIN:VCALENDAR
VERSION:2.0
PRODID:-//QUAD TT - ECPv6.3.2//NONSGML v1.0//EN
CALSCALE:GREGORIAN
METHOD:PUBLISH
X-ORIGINAL-URL:https://quadtt.com
X-WR-CALDESC:Events for QUAD TT
REFRESH-INTERVAL;VALUE=DURATION:PT1H
X-Robots-Tag:noindex
X-PUBLISHED-TTL:PT1H
BEGIN:VTIMEZONE
TZID:UTC
BEGIN:STANDARD
TZOFFSETFROM:+0000
TZOFFSETTO:+0000
TZNAME:UTC
DTSTART:20250101T000000
END:STANDARD
END:VTIMEZONE
BEGIN:VEVENT
DTSTART;TZID=UTC:20250608T073000
DTEND;TZID=UTC:20250608T160000
DTSTAMP:20260422T001703
CREATED:20250526T070609Z
LAST-MODIFIED:20250526T070609Z
UID:3673-1749367800-1749398400@quadtt.com
SUMMARY:Aripo Waterfall Adventure
DESCRIPTION:Rating: 1/10 😌\nIn Aripo lies a Turquoise hued six (6) foot waterfall rich in biodiversity. We hike on a downhill forest trail for about 10- 20 minutes until we arrive at the river.. \nCost: $100TT (hike only ; 🚗 + $25 parking fee per vehicle) \n$140 (hike & transportation)🚍 \nMeeting point: JFK Shuttle Stop UWI St Augustine Campus 🤝\n7:30am 🕰️\nDeparture: 8am\nEstimated return: 2p.m \nTo book your space :\n1. Whatsapp message us to ensure space is available\n2. Make full payment via online banking to our Scotiabank account.\n3. Send a photo of the completed transaction along with the names and contact number for each person. \nAll bookings are secured by payment only..💸 \n*NB No refunds on your cancelations the day before and the day on the event * \nIncludes:\n✔Transportation (Return Trip)\,\n✔Professional Certified Friendly Tour Guides\,\n✔Safety equipment (LifeJacket\, rope etc)\n✔First Aid Kits \nFor registration and more info Whatsapp Raiza 268-6608\, Garvin 333-5913 or Terence 306-0257
URL:https://quadtt.com/event/aripo-waterfall-adventure/
CATEGORIES:Outdoor Event
ATTACH;FMTTYPE=image/jpeg:https://quadtt.com/wp-content/uploads/2025/05/500562963_18410064817100688_871323514612839643_n.jpg
END:VEVENT
END:VCALENDAR