BEGIN:VCALENDAR
VERSION:2.0
PRODID:-//QUAD TT - ECPv6.3.2//NONSGML v1.0//EN
CALSCALE:GREGORIAN
METHOD:PUBLISH
X-ORIGINAL-URL:https://quadtt.com
X-WR-CALDESC:Events for QUAD TT
REFRESH-INTERVAL;VALUE=DURATION:PT1H
X-Robots-Tag:noindex
X-PUBLISHED-TTL:PT1H
BEGIN:VTIMEZONE
TZID:UTC
BEGIN:STANDARD
TZOFFSETFROM:+0000
TZOFFSETTO:+0000
TZNAME:UTC
DTSTART:20250101T000000
END:STANDARD
END:VTIMEZONE
BEGIN:VEVENT
DTSTART;TZID=UTC:20250517T080000
DTEND;TZID=UTC:20250518T170000
DTSTAMP:20260422T013032
CREATED:20250416T000527Z
LAST-MODIFIED:20250416T000527Z
UID:3653-1747468800-1747587600@quadtt.com
SUMMARY:University of the West Indies Open Days
DESCRIPTION:Save the Date!\n🗓 17 and 18 May 2025 – The UWI St. Augustine Open Days are here 🙌\nWhat once seemed out of reach is now within your grasp. Possible is Now!\n💡 Discover programmes that turn dreams into careers\n🎓 Meet the experts shaping the future\n💬 Chat with students & faculty who’ve made the leap\n🚀 Experience the energy of The UWI and see where you belong\nThe future isn’t waiting—it’s happening now. Are you ready?
URL:https://quadtt.com/event/university-of-the-west-indies-open-days/
CATEGORIES:Educational Event
END:VEVENT
END:VCALENDAR