BEGIN:VCALENDAR
VERSION:2.0
PRODID:-//QUAD TT - ECPv6.3.2//NONSGML v1.0//EN
CALSCALE:GREGORIAN
METHOD:PUBLISH
X-ORIGINAL-URL:https://quadtt.com
X-WR-CALDESC:Events for QUAD TT
REFRESH-INTERVAL;VALUE=DURATION:PT1H
X-Robots-Tag:noindex
X-PUBLISHED-TTL:PT1H
BEGIN:VTIMEZONE
TZID:UTC
BEGIN:STANDARD
TZOFFSETFROM:+0000
TZOFFSETTO:+0000
TZNAME:UTC
DTSTART:20250101T000000
END:STANDARD
END:VTIMEZONE
BEGIN:VEVENT
DTSTART;TZID=UTC:20250510T140000
DTEND;TZID=UTC:20250510T190000
DTSTAMP:20260422T012515
CREATED:20250506T132206Z
LAST-MODIFIED:20250506T132206Z
UID:3668-1746885600-1746903600@quadtt.com
SUMMARY:JAMBIM: Sunset Summer Starter
DESCRIPTION:The Jamaica Students’ Association x Barbados Students’ Association presents JAMBIM🇯🇲🇧🇧 \nBut this year with a twist..🫣 \nWe outside on the Ocean Pelican for the ultimate mash-up of big\, bad dancehall\, bare bashment soca and of course\, steamm!🕺🏾 \nBarbies wear your baddest swimsuits👙 and yaardies\, step out in your freshest beach wear🩳. \nOn May 10th from 2pm\, yes you read that right\, the day AFTER exams we doing it relll brawling!!🥳 \nJAMBIM the Sunset Summer Starta.. Coming soon😉
URL:https://quadtt.com/event/jambim-sunset-summer-starter/
CATEGORIES:Nightlife Event
ATTACH;FMTTYPE=image/jpeg:https://quadtt.com/wp-content/uploads/2025/05/491442888_18377752027189765_5530147563327643565_n.jpg
END:VEVENT
END:VCALENDAR